Workbook
Name _Hlk504996363: choices!$D$73

Sheet survey
A1: type | B1: name | C1: constraint | D1: required | E1: relevant | F1: calculation | G1: appearance | H1: label::English | I1: constraint_message::English | J1: hint::English | K1: required_message::English | L1: media::image::English | M1: label::Sinhala | N1: constraint_message::Sinhala | O1: hint::Sinhala | P1: required_message::Sinhala | Q1: media::image::Sinhala | R1: label::Tamil | S1: constraint_message::Tamil | T1: hint::Tamil | U1: required_message::Tamil | V1: media::image::Tamil
A3: today | B3: I4
A4: start | B4: I7
A5: end | B5: end
A6: deviceid | B6: deviceid
A7: subscriberid | B7: subscriberid
A8: calculate | B8: minage | F8: 18
A9: calculate | B9: maxage | F9: 69
A11: begin group | B11: pid_hhsize | G11: field-list
A12: calculate | B12: pid | F12: once(pulldata('STEPS','member_id','hhid_key','1'))
A13: note | B13: pid_note | H13: PID: ${pid} | J13: Participant ID | M13: PID: ${pid} | O13: සහභාගිවන්නාගේ හඳුනා ගැනීමේ අංකය | R13: PID: ${pid} | T13: Participant ID
A14: calculate | B14: hh_size | F14: once(pulldata('STEPS','hh_size','hhid_key','1'))
A15: note | B15: hh_size_note | H15: Household size: ${hh_size} | M15: Household size: ${hh_size} | R15: Household size: ${hh_size}
A16: calculate | B16: device_id | F16: once(pulldata('STEPS','device_id','hhid_key','1'))
A17: barcode | B17: qr_scanned | C17: .>0000 and .<8001 | H17: Scan the barcode on the participant's Clinic Appointment Card | M17: සහභාගිවන්නාගේ සායනික කාඩ් පතෙහි සඳහන් තීරු සංකේතය පරිලෝකනය කරන්න. | R17: பங்கு பற்றுபவரின் கிளினிக் நியமன அட்டையிலுள்ள பட்டைக்குறியீட்டை வருடுக.
A18: end group
A19: begin group | B19: qr_manual_group
A20: text | B20: qr_manual | C20: (regex(.,'[0-9]{4}')) and ( .>0000 and .<8001) or (.=9999) | D20: yes | E20: ${qr_scanned} = '' | H20: If you can't scan the QR code, please enter it manually below. | I20: Please enter "9999" for training purposes only. | M20: ඔබට තීරු සංකේතය පරිලෝකනය කළ නොහැකි නම් කරුණාකර එම අංකය ඇතුළත් කරන්න. | N20: පුහුණු වීම් සඳහා පමණක් කරුණාකර "9999" ඇතුළත් කරන්න. | R20: உங்களால் பட்டைக் குறியீட்டை வருட முடியவில்லை யெனின், தயவு செய்து அதை கீழே கையினலே உள்ளீடு செய்க. | S20: Please enter "9999" for training purposes only.
A21: end group
A22: select_one unino | B22: hh_id | D22: yes | G22: search search('unino') | H22: Select the Unique No. | M22: අනන්‍යතා අංකය තෝරන්න. | R22: அடையாள எண்ணைத் தேர்ந்தெடுக்கவும்.
A23: begin group | B23: uni_grp | G23: field-list
A24: note | B24: uni_note | H24: Unique No : ${hh_id} | M24: අනන්‍යතා අංකය : ${hh_id} | R24: அடையாள எண் : ${hh_id}
A25: calculate | B25: dist | F25: pulldata('unino','dist','uni_key',${hh_id})
A26: note | B26: dist_note | H26: District : ${dist} | M26: දිස්ත්‍රික්කය : ${dist} | R26: மாவட்டம் : ${dist}
A27: calculate | B27: ao | F27: pulldata('unino','ao','uni_key',${hh_id})
A28: note | B28: ao_note | H28: Census Block No (AO) : ${ao} | M28: සංගණන කාණ්ඩ අංකය (AO) : ${ao} | R28: தொகைமதிப்புக் கண்ட இலக்கம் (A0) : ${ao}
A29: calculate | B29: psu | F29: pulldata('unino','psu','uni_key',${hh_id})
A30: note | B30: psu_note | H30: PSU No : ${psu} | M30: ප්‍රාථමික නියැදි ඒ්කකය (PSU No.) : ${psu} | R30: ஆரம்ப மாதிரி இலக்கம் (PSU NO) : ${psu}
A31: calculate | B31: sampleno | F31: pulldata('unino','sampleno','uni_key',${hh_id})
A32: note | B32: sampleno_note | H32: Housing unit sample No (within census block) : ${sampleno} | M32: නිවාස ඒකකයේ නියැදි යොමු අංකය (සංගණන කාණ්ඩය තුළ) : ${sampleno} | R32: வீட்டுக்கூறின் மாதிரி இலக்கம் (தொகைமதிப்புக் கண்டத்தினுள்) : ${sampleno}
A33: end group | B33: </uni_grp>
A35: begin group | B35: location_date | G35: field-list | H35: Location and Date | M35: ස්ථානය සහ දිනය | R35: இடம் மற்றும் திகதி.
A36: integer | B36: I3 | C36: .>0 | D36: yes | H36: I3. Interviewer ID | I36: ID must be a positive number. | K36: Please enter a response for all questions on the screen. | M36: I3. සම්මුඛ පරීක්ෂණය සිදු කරන්නාගේ හඳුනා ගැනීමේ අංකය | N36: හඳුනා ගැනීමේ අංකය ධන අංකයක් විය යුතුය. | P36: කරුණාකර තිරයේ ඇති සියලු ප්‍රශ්න සඳහා ප්‍රතිචාරය ලබා දෙන්න. | R36: I3. நேர்காணலை மேற்கொள்பவரின் அ.இல | S36: ID must be a positive number. | U36: Please enter a response for all questions on the screen.
A37: end group
A39: begin group | B39: consent_language_name | H39: Consent, Interview Language and Name | M39: කැමැත්ත ප්‍රකාශ කිරීම, සම්මුඛ පරීක්ෂණය සිදු කරන භාෂාව සහ නම | R39: இணக்கப்பாடு, நேர்காணல் மொழி மற்றும் பெயர்
A40: select_one y_n | B40: I5 | D40: yes | H40: I5. Consent has been read and obtained | M40: I5. කැමැත්ත ප්‍රකාශ කිරීමේ පත්‍රිකාව කියවා කැමැත්ත ලබා ගත්තාද? | R40: I5. இணக்கப்பாட்டுப் படிவம் வாசிக்கப்பட்டு இணக்கப்பாடு பெறப்பட்டது
A41: select_one lang | B41: I6 | D41: yes | E41: ${I5} = '1' | H41: I6. Interview Language | M41: I6. සම්මුඛ පරීක්ෂණය සිදුකරන භාෂාව | R41: I6. நேர்காணலுக்கான மொழி
A42: note | B42: I8 | E42: ${I5} = '1' | F42: once(pulldata('STEPS','family_surname','hhid_key','1')) | H42: I8. Last Name (<span style="color:red">Surname</span>) | M42: I8. සහභාගි වන්නාගේ <span style="color:red">වාසගම</span> | R42: I8. கடைசிப் பெயர் (<span style="color:red">குடும்ப பெயர்</span>)
A43: note | B43: I9 | E43: ${I5} = '1' | F43: once(pulldata('STEPS','first_name','hhid_key','1')) | H43: I9. First Name | M43: I9. සහභාගි වන්නාගේ <span style="color:red">මුල්නම</span> | R43: I9. முதற் பெயர்
A44: text | B44: I10 | C44: regex(.,'[0-9]{10}') or .=77 or .=88 | E44: ${I5} = '1' | H44: I10. Contact phone number where possible | I44: Ten-digit number with area code or mobile number, Enter '77' if not known and '88' for refused. | J44: Ten-digit number with area code or mobile number, Enter '77' if not known and '88' for refused. | M44: I10. දුරකථන අංකය (ප්‍රදේශයේ කේතය සහිත <span style="color:red">ඉලක්කම් 10ක අංකය</span> හෝ ජංගම දුරකථන අංකය) | N44: ප්‍රදේශයේ කේතය සහිත ඉලක්කම් 10ක අංකය හෝ ජංගම දුරකථන අංකය | O44: ප්‍රදේශයේ කේතය සහිත ඉලක්කම් 10ක අංකය හෝ ජංගම දුරකථන අංකය | R44: I10. முடியுமாயின் தொடர்பு கொள்ளக் கூடிய தொலைபேசி இலக்கம் (பிரதேச குறியீட்டு இலக்கத்துடன் (<span style="color:red">பத்து இலக்கங்கள்</span> அல்லது கையடக்கத் தொலைபேசி இலக்கம்) | S44: Ten-digit number with area code or mobile number, Enter '77' if not known and '88' for refused. | T44: Ten-digit number with area code or mobile number, Enter '77' if not known and '88' for refused.
A45: end group
A47: begin group | B47: step1 | E47: ${I5} = '1' | H47: Step 1 | M47: පියවර 1 | R47: படிமுறை 1
A48: begin group | B48: demographics | H48: Demographic Information | M48: ජනගහනය පිලිබඳ තොරතුරු | R48: குடித்தொகை மற்றும் பின்புலத் தகவல்கள்
A49: select_one m_f | B49: C1 | D49: yes | H49: C1. Sex | J49: Observe only, do not ask. | M49: ස්ත්‍රී/පුරුෂ භාවය | O49: නිරීක්‍ෂණය පමණක් කරන්න, ඇසීමක් නොකරන්න. | R49: C1. பால் | T49: Observe only, do not ask.
A50: begin group | B50: C2grp | G50: field-list | H50: C2grp. Date of birth | R50: பிறந்த திகதி.
A51: note | B51: C2 | H51: C2. What is your date of birth? | J51: Enter "77 77 7777" in all fields if complete date of birth is not known. | M51: C2.. ඔබේ උපන් දිනය කවදාද ? | O51: සම්පුර්ණ උපන් දිනය නොදන්නේ නම් සියලුම ක්ෂේත්‍ර වල "77 77 7777" ප්‍රතිචාරය යොදන්න. | R51: C2. உங்களுடைய பிறந்த திகதி என்ன? தெரியாது எனின் 77 77 7777 என இடுக | T51: Select "Don't know" in all fields if complete date of birth is not known.
A52: select_one time_yyyy | B52: C2c | C52: (.>=1948 and .<=2001 and ${C2a}!=77 and ${C2b}!=77) or (.=7777 and ${C2a}=77 and ${C2b}=77) | D52: yes | G52: minimal | H52: C2c. year | I52: You cannot enter a partial date of birth. Select "Don't know" in all fields if complete date of birth is not known. | M52: C2c. වසර | N52: අසම්පුර්ණ උපන් දිනය ඇතුළත් කළ නොහැක. සම්පුර්ණ උපන් දිනය නොදන්නේ නම් සියලුම ක්ෂේත්‍ර වල "නොදනී" ප්‍රතිචාරය තෝරන්න. | R52: C2c. வருடம் | S52: You cannot enter a partial date of birth. Select "Don't know" in all fields if complete date of birth is not known.
A53: select_one time_mm | B53: C2b | C53: (.>=1 and .<=12 and ${C2a}!=77) or (.=77 and ${C2a}=77) | D53: yes | G53: minimal | H53: C2b. month | I53: You cannot enter a partial date of birth. Select "Don't know" in all fields if complete date of birth is not known. | M53: C2b. මාසය | N53: අසම්පුර්ණ උපන් දිනය ඇතුළත් කළ නොහැක. සම්පුර්ණ උපන් දිනය නොදන්නේ නම් සියලුම ක්ෂේත්‍ර වල "නොදනී" ප්‍රතිචාරය තෝරන්න. | R53: C2b. மாதம் | S53: You cannot enter a partial date of birth. Select "Don't know" in all fields if complete date of birth is not known.
A54: select_one time_dd | B54: C2a | D54: yes | G54: minimal | H54: C2a. day | M54: C2a. දිනය | R54: C2a. திகதி
A55: end group | B55: </C2grp>
A56: integer | B56: C3 | C56: .>=${minage} and .<=${maxage} | D56: yes | E56: ${C2a}='77' | F56: once(int(pulldata('STEPS','age','hhid_key','1'))) | H56: C3. How old are you? | I56: Age must be within the age range of the survey. | M56: C3. ඔබගේ වයස කියද? | N56: වයස සමික්ෂණයේ වයස් සීමාව තුළ විය යුතුය. | R56: C3. உங்களது வயது எத்தனை? | S56: Age must be within the age range of the survey.
A57: integer | B57: C4 | C57: (.>=0 and .<=30) or .=77 | D57: yes | H57: C4. In total, how many years have you spent at school and in full-time study (<span style="color:red">excluding pre-school</span>)? | I57: Please enter a number between 0 and 30. | J57: Enter '77' if not known. | M57: C4. ඔබ පාසල් ගොස් ඇති කාලය සහ පුර්ණ කාලීනව අධ්‍යයන කටයුතු සඳහා ගත කර ඇති කාලය සම්පුර්ණ වශයෙන් කොපමණද? (<span style="color:red">පෙර පාසැල හැර</span>) | N57: කරුණාකර 0 සිට 30 දක්වා අංකයක් ඇතුළත් කරන්න. | O57: නොදන්නේ නම් "77" ඇතුළත් කරන්න. | R57: C4. பாடசாலையில் மற்றும் முழு நேரக் கல்வியில் மொத்தமாக எத்தனை வருடங்கள் செலவளித்துள்ளீர்கள்? (<span style="color:red">முன்பள்ளியை தவிர்த்து</span>) | S57: Please enter a number between 0 and 30. | T57: Enter '77' if not known.
A58: select_one edu | B58: C5 | D58: yes | H58: C5. What is the <span style="color:red">highest level of education</span> you have completed? | M58: C5. ඔබගේ <span style="color:red">ඉහළම අධ්‍යාපනික තත්ත්වය</span> කුමක්ද? | R58: C5. நீங்கள் பூர்த்தி செய்த <span style="color:red">அதி உயர் கல்வித்</span> தகைமை என்ன?
A59: select_one ethnic | B59: C6 | D59: yes | H59: C6. What is your <span style="color:red">ethnicity</span>? | M59: C6. ඔබගේ <span style="color:red">ජනවාර්ගික පසුබිම</span> කුමක්ද? | R59: C6. உங்களது <span style="color:red">இனம்</span> என்ன?
A60: text | B60: C6other | C60: string-length(.)<=30 | D60: yes | E60: selected(${C6}, '7') | H60: C6other. Please specify your ethnic group | I60: Please use less than 30 characters | J60: Select the relevant ethnic / cultural group to which the participants belong | M60: C6other. කරුණාකර ඔබගේ ජනවාර්ගික පසුබිම සඳහන් කරන්න | N60: කරුණාකර අක්ෂර 30 කට අඩුවෙන් භාවිතා කරන්න. | O60: සහභාගිවන්නන් සඳහා අදාළ ජනවාර්ගික පසුබිම තෝරන්න. | R60: C6other. ஏனையவை. தயவுசெய்து உங்களுடைய இனத்தொகுதியை குறிப்பிடுக. | S60: Please use less than 30 characters | T60: Select the relevant ethnic / cultural group to which the participants belong
A61: select_one marital | B61: C7 | D61: yes | H61: C7. What is your <span style="color:red">marital status</span>? | M61: C7. ඔබේ <span style="color:red">විවාහක තත්ත්වය</span> කුමක්ද? | R61: C7. உங்களது <span style="color:red">விவாக அந்தஸ்து</span> என்ன?
A62: select_one work | B62: C8 | D62: yes | H62: C8. Which of the following best describes your <span style="color:red">Main activity</span> usually engaged in? | M62: C8. ඔබ සාමාන්‍යයෙන් යෙදී සිටින <span style="color:red">ප්‍රධාන කටයුත්ත</span> කුමක්ද? | R62: C8. நீங்கள் வழக்கமாக ஈடுபட்ட <span style="color:red">பிரதான நடவடிக்கையை</span> பின்வருவனவற்றுள் எது சிறப்பாக விபரிக்கிறது?
A63: text | B63: C8other | D63: yes | E63: selected(${C8}, '7') | H63: C8other. Please specify the main activity usually engaged in | M63: C8other. සාමාන්‍යයෙන් යෙදී සිටින ප්‍රධාන කටයුත්ත සඳහන් කරන්න. | R63: C8other. Please specify the main activity usually engaged in
A64: select_one empstatus | B64: C8a | D64: yes | E64: selected(${C8}, '1') | H64: C8a. <span style="color:red">Employment status</span> at the main occupation? | M64: C8a. ඔබගේ <span style="color:red">ප්‍රධාන රැකියාවේ තත්ත්වය</span> කුමක්ද? | R64: C8a. பிரதான தொழிலின் <span style="color:red">தொழில் அந்தஸ்து</span>?
A65: begin group | B65: C9group | G65: field-list
A66: note | B66: C9 | H66: C9. How many people, <span style="color:red">including yourself</span>, live in your household? | M66: C9. <span style="color:red">ඔබත් සමඟ</span> මෙම ගෘහ ඒකකයේ වාසය කරන මුළු සංඛ්‍යාව කියද? | R66: C9. உங்கள் குடித்தனத்தில் . <span style="color:red">நீங்கள் உட்பட</span> எத்தனை பேர் வசிக்கின்றனர்?
A67: integer | B67: C9a | D67: yes | H67: C9a. < 1 year | I67: Number should be greater than or equal to zero | J67: Enter '77' if not known and '88' for refused. | M67: C9a. අවුරුදු 1ට අඩු | N67: අංකය බින්දුවට වඩා වැඩි හෝ සමාන විය යුතුය. | O67: නොදන්නේ නම් "77" සහ ප්‍රතික්ෂේප කලේ නම් "88" ඇතුළත් කරන්න. | R67: C9a. < 1 வருடம் | S67: Number should be greater than or equal to zero | T67: Enter '77' if not known and '88' for refused.
A68: integer | B68: C9b | D68: yes | H68: C9b. 1 - 4 years | I68: Number should be greater than or equal to zero | J68: Enter '77' if not known and '88' for refused. | M68: C9b. අවුරුදු 1-4 දක්වා | N68: අංකය බින්දුවට වඩා වැඩි හෝ සමාන විය යුතුය. | O68: නොදන්නේ නම් "77" සහ ප්‍රතික්ෂේප කලේ නම් "88" ඇතුළත් කරන්න. | R68: C9b. 1 - 4 வருடங்கள் | S68: Number should be greater than or equal to zero | T68: Enter '77' if not known and '88' for refused.
A69: integer | B69: C9c | D69: yes | H69: C9c. 5 – 17 years | I69: Number should be greater than or equal to zero | J69: Enter '77' if not known and '88' for refused. | M69: C9c. අවුරුදු 5-17 දක්වා | N69: අංකය බින්දුවට වඩා වැඩි හෝ සමාන විය යුතුය. | O69: නොදන්නේ නම් "77" සහ ප්‍රතික්ෂේප කලේ නම් "88" ඇතුළත් කරන්න. | R69: C9c. 5 – 17 வருடங்கள் | S69: Number should be greater than or equal to zero | T69: Enter '77' if not known and '88' for refused.
A70: integer | B70: C9d | C70: (.>=${hh_size} and .<=30) or .=77 or .=88 | D70: yes | H70: C9d. ≥ 18 years | I70: Number of people aged 18 years cannot be less than the number of people recorded during participant selection or bigger than 30. | J70: Enter '77' if not known and '88' for refused. | M70: C9d. අවුරුදු 18 හෝ ඊට වැඩි | N70: වයස අවුරුදු 18 ට වැඩි පුද්ගලයන් සංඛ්‍යාව, සහභාගීවන්නන් තෝරා ගැනීමේදී සඳහන් කළ සංඛ්‍යාවට වඩා අඩු විය නොහැක හෝ සංඛ්‍යාව 30 ට වඩා වැඩි විය නොහැක. | O70: නොදන්නේ නම් "77" සහ ප්‍රතික්ෂේප කලේ නම් "88" ඇතුළත් කරන්න. | R70: C9d. ≥ 18 வருடங்கள் | S70: Number of people aged 18 years cannot be less than the number of people recorded during participant selection or bigger than 30. | T70: Enter '77' if not known and '88' for refused.
A71: end group | B71: </C9grp>
A72: end group | B72: </demographics>
A74: begin group | B74: tobacco_use | H74: Tobacco Use | M74: දුම්කොළ භාවිතය | R74: புகையிலைப் பாவனை
A75: note | B75: note1 | H75: note1. Now I am going to ask you some questions about <span style="color:red">tobacco use other than Cannabis</span>. | M75: මම දැන් ඔබගෙන් <span style="color:red">දුම්කොළ භාවිතය පිළිබඳව (නමුත් ගංජා හැර</span>) ප්‍රශ්න කීපයක් අසමි. | R75: நான் இப்போது உங்களிடம் கஞ்சா போன்றவை தவிர்ந்த புகையிலை பாவனை பற்றிச் சில கேள்விகளை கேட்கப் போகின்றேன்.
A77: begin group | B77: T1grp | G77: field-list
A78: select_one y_n | B78: T1 | D78: yes | H78: T1. Do you <span style="color:red">currently</span> smoke any <span style="color:red">tobacco</span> products, such as <span style="color:red">cigarettes, cigars, pipes, Beedee, Suruttu</span>? | M78: T1. ඔබ <span style="color:red">දැනට</span> දුම් පානය එනම් <span style="color:red">සිගරට්, සිගාර්, පයිප්ප, බීඩි හෝ සුරුට්ටු වැනි දුම්කොළ</span> නිෂ්පාදන භාවිතා කරනවාද? | R78: T1. சிகரட், சுருட்டு அல்லது சுங்கான், பீடி போன்ற ஏதாவது புகையிலை உற்பத்திப் பொருட்களை நீங்கள் தற்போது புகைக்கிறீர்களா?
A79: note | B79: smoked_tb_showcard | H79: Smoked tobacco products | L79: smoked_tobacco_en.png | M79: දුම් පානය කරන දුම්කොළ නිෂ්පාදන | Q79: smoked_tobacco_si.png | R79: Smoked tobacco products | V79: smoked_tobacco_ta.png
A80: end group
A81: select_one y_n | B81: T2 | D81: yes | E81: ${T1} = '1' | H81: T2. Do you <span style="color:red">currently</span> smoke tobacco products <span style="color:red">daily</span>? | M81: T2. ඔබ <span style="color:red">දැනට දිනපතා</span> දුම්පානය කරනවාද? | R81: T2. நீங்கள் <span style="color:red">தற்போது தினமும்</span> புகையிலை உற்பத்திகளை புகைப்பவரா?
A82: integer | B82: T3 | C82: (.>=8 and .<=${maxage}) or .=77 | D82: yes | E82: ${T1} = '1' | H82: T3. How old were you when you <span style="color:red">first started</span> smoking? | I82: Age must be at least 8 and no more than the upper age limit of the survey. | J82: Enter '77' if not known. | M82: T3. ඔබ <span style="color:red">ප්‍රථම වරට</span> දුම්පානය කිරීම ආරම්භ කරන විට ඔබට වයස කීයද? | N82: වයස අවම වශයෙන් අවුරුදු 8 ක් විය යුතු අතර එය සමීක්ෂණයේ ඉහළ වයස් සීමාවට වඩා වැඩි නොවිය යුතුය. | O82: නොදන්නේ නම් "77" ඇතුළත් කරන්න. | R82: T3. <span style="color:red">நீங்கள் முதன் முதலாக புகைப்பிடிக்க ஆரம்பித்தபோது உங்களுக்கு எத்தனை வயது</span>? | S82: Age must be at least 8 and no more than the upper age limit of the survey. | T82: Enter '77' if not known.
A83: begin group | B83: T4grp | E83: ${T1} = '1' and (${T3} = '77') | G83: field-list
A84: integer | B84: T4 | H84: T4. Do you remember how long ago it was? | J84: Leave blank if not known; otherwise, answer must be between 1 and 61 for Years, 1 to 11 for Months, or 1 to 30 for Weeks. | M84: T4. ඔබට මතක පරිදි ඒ කොපමණ කලකට පෙරද? | O84: නොදන්නේ නම් හිස්ව තබන්න; නැත්නම්, පිළිතුර අවුරුදු සඳහා 1 සිට 61 ද මාස සඳහා 1 සිට 11 ද සති සඳහා 1 සිට 30 ද අතර විය යුතුය. | R84: T4. <span style="color:red">எத்தனை வருடங்களுக்கு முன்பு நடந்தது என்பது உங்களுக்கு நினைவிருக்கின்றதா? (ஒனறை மட்டும் பதிவு செய்யவும், மூன்றையும் அல்ல</span>) | T84: Leave blank if not known; otherwise, answer must be between 1 and 61 for Years, 1 to 11 for Months, or 1 to 30 for Weeks.
A85: select_one time2 | B85: T4type | C85: (${T4type} = 'weeks' and ${T4} > 0 and ${T4} <= 30) or (${T4type} = 'months' and ${T4} > 0 and ${T4} <= 11) or (${T4type} = 'years' and ${T4} > 0 and ${T4} <=61) or (${T4type} = '77' and ${T4} = '') | D85: yes | H85: Please select whether answer is in years, months, or weeks, or select don't know if respondent doesn't know. | R85: பதிலானது ஆண்டிலோ,மாதத்திலோ, அல்லது வாரத்திலோ இருக்கின்றது என்பதை தயவு செய்து தெரிவு செய்க. அல்லது பதிலளிப்பவருக்கு தெரியவில்லை யெனின்,தெரியாது என்பதை தெரிவு செய்க.
A86: end group
A87: integer | B87: T5a | C87: (.>=0 and .<=50) or .=77 | D87: yes | E87: ${T2} = '1' | H87: T5a. On <span style="color:red">average</span>, how many manufactured cigarettes do you smoke <span style="color:red">each day</span>? | I87: Number must be between 0 and 50. | J87: Enter '77' if not known OR enter '0' if respondent does not smoke manufactured cigarettes daily. | M87: T5a. <span style="color:red">සාමාන්‍යයෙන් ඔබ දිනකට</span> නිෂ්පාදිත සිගරට් කොපමණ ප්‍රමාණයක් භාවිතා කරනවාද? | N87: අංකය 0 සිට 50 අතර විය යුතුය. | O87: නොදන්නේ නම් '77' ද ප්‍රතිචාර දක්වන්නා දිනපතා නිෂ්පාදිත සිගරට් භාවිතා කරන්නේ නැති නම් '0' ද ඇතුළත් කරන්න. | R87: T5a. அண்மையில் நீங்கள் ஒவ்வொரு நாளும் எவ்வளவு உற்பத்தி செய்யப்பட்ட சிகரட்டுகளை புகைப்பிடிக்கின்றீர்கள் ? | S87: Number must be between 0 and 50. | T87: Enter '77' if not known OR enter '0' if respondent does not smoke manufactured cigarettes daily.
A88: integer | B88: T5aw | C88: (.>=0 and .<=350) or .=777 | D88: yes | E88: ${T2} = '2' or ${T5a} = '0' | H88: T5aw. On <span style="color:red">average</span>, how many manufactured cigarettes do you smoke <span style="color:red">each week</span>? | I88: Number must be between 0 and 350. | J88: Enter '777' if not known OR enter '0' if respondent does not smoke manufactured cigarettes weekly. | M88: T5aw. <span style="color:red">සාමාන්‍යයෙන්</span> ඔබ <span style="color:red">සතියකට නිෂ්පාදිත සිගරට්</span> කොපමණ ප්‍රමාණයක් භාවිතා කරනවාද? | N88: අංකය 0 සිට 350 අතර විය යුතුය. | O88: නොදන්නේ නම් '777' ද ප්‍රතිචාර දක්වන්නා සතිපතා නිෂ්පාදිත සිගරට් භාවිතා කරන්නේ නැති නම් '0' ද ඇතුළත් කරන්න. | R88: T5aw. அண்ணளவில், நீங்கள் ஒவ்வொரு கிழமையும் எவ்வளவு உற்பத்தி செய்யப்பட்ட சிகரெட்டுக்களை புகைபிடிக்கின்றீர்கள்? | S88: Number must be between 0 and 350. | T88: Enter '777' if not known OR enter '0' if respondent does not smoke manufactured cigarettes weekly.
A89: integer | B89: T5f | C89: (.>=0 and .<=50) or .=77 | D89: yes | E89: ${T2} = '1' | H89: T5f. On <span style="color:red">average</span>, how many Beedees do you smoke <span style="color:red">each day</span>? | I89: Number must be between 0 and 50. | J89: Enter '77' if not known OR enter '0' if respondent does not smoke Beedee sessions daily. | M89: T5f. <span style="color:red">සාමාන්‍යයෙන්</span> ඔබ <span style="color:red">දිනකට නිෂ්පාදිත බිඩි</span> කොපමණ ප්‍රමාණයක් භාවිතා කරනවාද? | N89: අංකය 0 සිට 50 අතර විය යුතුය. | O89: නොදන්නේ නම් '77' ද ප්‍රතිචාර දක්වන්නා දිනපතා නිෂ්පාදිත බිඩි භාවිතා කරන්නේ නැති නම් '0' ද ඇතුළත් කරන්න. | R89: T5f. அண்ணளவில், நீங்கள் ஒவ்வொரு நாளும் எவ்வளவு பீடிகளை புகைபிடிக்கின்றீர்கள்? | S89: Number must be between 0 and 50. | T89: Enter '77' if not known OR enter '0' if respondent does not smoke Beedee sessions daily.
A90: integer | B90: T5fw | C90: (.>=0 and .<=350) or .=777 | D90: yes | E90: ${T2} = '2' or ${T5f} = '0' | H90: T5fw. On <span style="color:red">average</span>, how many Beedees do you smoke <span style="color:red">each week</span>? | I90: Number must be between 0 and 350. | J90: Enter '777' if not known OR enter '0' if respondent does not smoke Bedee sessions weekly. | M90: T5fw. <span style="color:red">සාමාන්‍යයෙන්</span> ඔබ <span style="color:red">සතියකට නිෂ්පාදිත බිඩි</span> කොපමණ ප්‍රමාණයක් භාවිතා කරනවාද? | N90: අංකය 0 සිට 350 අතර විය යුතුය. | O90: නොදන්නේ නම් '777' ද ප්‍රතිචාර දක්වන්නා සතිපතා නිෂ්පාදිත බිඩි භාවිතා කරන්නේ නැති නම් '0' ද ඇතුළත් කරන්න. | R90: T5fw. அண்ணளவில், நீங்கள் ஒவ்வொரு கிழமையும் எவ்வளவு பீடிகளை புகைபிடிக்கின்றீர்கள்? | S90: Number must be between 0 and 350. | T90: Enter '777' if not known OR enter '0' if respondent does not smoke Bedee sessions weekly.
A91: integer | B91: T5g | C91: (.>=0 and .<=50) or .=77 | D91: yes | E91: ${T2} = '1' | H91: T5g. On <span style="color:red">average</span>, how many Suruttus do you smoke <span style="color:red">each day</span>? | I91: Number must be between 0 and 50. | J91: Enter '77' if not known OR enter '0' if respondent does not smoke Suruttu sessions daily. | M91: T5g. <span style="color:red">සාමාන්‍යයෙන්</span> ඔබ <span style="color:red">දිනකට සුරුට්ටු</span> කොපමණ ප්‍රමාණයක් භාවිතා කරනවාද? | N91: අංකය 0 සිට 50 අතර විය යුතුය. | O91: නොදන්නේ නම් '77' ද ප්‍රතිචාර දක්වන්නා දිනපතා සුරුට්ටු භාවිතා කරන්නේ නැති නම් '0' ද ඇතුළත් කරන්න. | R91: T5g. அண்ணளவில், நீங்கள் ஒவ்வொரு நாளும் எவ்வளவு சுருட்டுக்களை புகைப்பிடிக்கின்றீர்கள்? | S91: Number must be between 0 and 50. | T91: Enter '77' if not known OR enter '0' if respondent does not smoke Suruttu sessions daily.
A92: integer | B92: T5gw | C92: (.>=0 and .<=350) or .=777 | D92: yes | E92: ${T2} = '2' or ${T5g} = '0' | H92: T5gw. On <span style="color:red">average</span>, how many Suruttus do you smoke <span style="color:red">each week</span>? | I92: Number must be between 0 and 350. | J92: Enter '777' if not known OR enter '0' if respondent does not smoke Suruttu sessions weekly. | M92: T5gw. <span style="color:red">සාමාන්‍යයෙන්</span> ඔබ <span style="color:red">සතියකට සුරුට්ටු</span> කොපමණ ප්‍රමාණයක් භාවිතා කරනවාද? | N92: අංකය 0 සිට 350 අතර විය යුතුය. | O92: නොදන්නේ නම් '777' ද ප්‍රතිචාර දක්වන්නා සතිපතා සුරුට්ටු භාවිතා කරන්නේ නැති නම් '0' ද ඇතුළත් කරන්න. | R92: T5gw. அண்ணளவில், நீங்கள் ஒவ்வொரு கிழமையும் எவ்வளவு சுருட்டுக்களை புகைபிடிக்கின்றீர்கள்? | S92: Number must be between 0 and 350. | T92: Enter '777' if not known OR enter '0' if respondent does not smoke Suruttu sessions weekly.
A93: integer | B93: T5i | C93: (.>=0 and .<=50) or .=77 | D93: yes | E93: ${T2} = '1' | H93: T5i. On <span style="color:red">average</span>, how many other tobacco products do you smoke <span style="color:red">each day</span>? | I93: Number must be between 0 and 50. | J93: Only record OTHER tobacco products not already included in previous questions. Enter '77' if not known OR enter '0' if respondent does not smoke other product daily. | M93: T5i. <span style="color:red">සාමාන්‍යයෙන්</span> ඔබ <span style="color:red">දිනකට අනෙකුත් දුම්කොළ නිෂ්පාදන</span> කොපමණ ප්‍රමාණයක් භාවිතා කරනවාද? | N93: අංකය 0 සිට 50 අතර විය යුතුය. | O93: පෙර ප්‍රශ්න වලට සඳහන් නොකළ දුම්කොළ නිෂ්පාදන පමණක් සඳහන් කරන්න. නොදන්නේ නම් '77' ද ප්‍රතිචාර දක්වන්නා දිනපතා අනෙකුත් දුම්කොළ නිෂ්පාදන භාවිතා කරන්නේ නැති නම් '0' ද ඇතුළත් කරන්න. | R93: T5i. அண்ணளவில், நீங்கள் ஒவ்வொரு நாளும் வேறு புகையிலை உற்பத்திகளை புகைபிடிக்கின்றீர்கள்? | S93: Number must be between 0 and 50. | T93: Only record OTHER tobacco products not already included in previous questions. Enter '77' if not known OR enter '0' if respondent does not smoke other product daily.
A94: integer | B94: T5iw | C94: (.>=0 and .<=350) or .=777 | D94: yes | E94: ${T2} = '2' or ${T5i} = '0' | H94: T5iw. On <span style="color:red">average</span>, how many other tobacco products do you smoke <span style="color:red">each week</span>? | I94: Number must be between 0 and 350. | J94: Only record OTHER tobacco products not already included in previous questions. Enter '777' if not known OR enter '0' if respondent does not smoke other products weekly. | M94: T5iw. <span style="color:red">සාමාන්‍යයෙන්</span> ඔබ <span style="color:red">සතියකට අනෙකුත් දුම්කොළ නිෂ්පාදන</span> කොපමණ ප්‍රමාණයක් භාවිතා කරනවාද? | N94: අංකය 0 සිට 350 අතර විය යුතුය. | O94: පෙර ප්‍රශ්න වලට සඳහන් නොකළ දුම්කොළ නිෂ්පාදන පමණක් සඳහන් කරන්න. නොදන්නේ නම් '777' ද ප්‍රතිචාර දක්වන්නා සතිපතා අනෙකුත් දුම්කොළ නිෂ්පාදන භාවිතා කරන්නේ නැති නම් '0' ද ඇතුළත් කරන්න. | R94: T5iw. அண்ணளவில், நீங்கள் ஒவ்வொரு கிழமையும் வேறு புகையிலை உற்பத்திகளை புகைபிடிக்கின்றீர்கள்? | S94: Number must be between 0 and 350. | T94: Only record OTHER tobacco products not already included in previous questions. Enter '777' if not known OR enter '0' if respondent does not smoke other products weekly.
A95: text | B95: T5other | D95: yes | E95: (${T5i} > '0' and ${T5i} <='50' ) or (${T5iw} > '0' and ${T5iw} <='350' ) | H95: T5other. Please specify other type of tobacco smoked | M95: T5other. කරුණාකර අනෙකුත් දුම්කොළ නිෂ්පාදන සඳහන් කරන්න. | R95: T5other. வேறு புகைப்பிடித்த புகையிலையின் வேறு வகையை தயவுசெய்து குறிப்பிடுக.
A96: select_one buypack | B96: X3 | D96: yes | E96: ${T1} = '1' and (${T5a} > '0' or ${T5aw} > '0') | H96: X3. <span style="color:red">Usually</span> do you buy cigarettes in <span style="color:red">packets or separately</span>? | M96: X3. <span style="color:red">සාමාන්‍යයෙන්</span> ඔබ සිගරට් මිලදී ගන්නේ <span style="color:red">පැකට් ලෙසද වෙන වෙනමද</span>? | R96: X3. நீங்கள் <span style="color:red">வழக்கமாக</span> சிகரட்டை <span style="color:red">பக்கற்களிலோ</span> அல்லது தனிச் சிகரட்டாகவோ வாங்குகிறீர்கள்?
A97: select_one y_n | B97: T6 | D97: yes | E97: ${T1} = '1' | H97: T6. During the <span style="color:red">past 12 months</span>, have you tried to <span style="color:red">stop smoking</span>? | M97: T6. <span style="color:red">පසුගිය මාස 12</span> ඇතුළත ඔබ <span style="color:red">දුම්පානය නැවත්වීමට</span> උත්සාහ කර තිබේද? | R97: T6. <span style="color:red"> கடந்த 12 மாத காலத்தில் புகைபிடிப்பதை நிறுத்த முயற்சி </span>செய்துள்ளீர்களா?
A98: select_one quit | B98: T7 | D98: yes | E98: ${T1} = '1' | H98: T7. During <span style="color:red">any visit</span> to a doctor or other health worker in the <span style="color:red">past 12 months</span>, were you advised to quit smoking tobacco? | M98: T7. <span style="color:red">පසුගිය මාස 12</span> ඇතුළත වෛද්‍යවරයෙකු හෝ සෞඛ්‍ය නිලධාරියෙකු ඔබට <span style="color:red">දුම්බීම නතර කරන ලෙස උපදෙස් දුන්නාද</span>? | R98: T7. <span style="color:red">கடந்த 12 மாத</span> காலப்பகுதிக்குள் வைத்தியர் அல்லது வேறு சுகாதார ஊழியரை சந்தித்தபோது புகைப்பிடிப்பதை தவிர்க்குமாறு ஆலோசனை வழங்கப்பட்டதா?
A99: select_one y_n | B99: T8 | D99: yes | E99: ${T1} = '2' | H99: T8. In the <span style="color:red">past</span>, did you <span style="color:red">ever smoke</span> any tobacco products? | M99: T8. <span style="color:red">අතීතයේදී කවදා හෝ</span> ඔබ දුම්කොළ නිෂ්පාදන භාවිතා කර තිබේද? | R99: T8. <span style="color:red">கடந்த காலங்களில்</span> எந்தவொரு <span style="color:red">புகையிலை உற்பத்திகளை</span> எப்போதாவது புகைத்தீர்களா? (விபரண அட்டையைப் பயன்படுத்தவும்)
A100: select_one y_n | B100: T9 | D100: yes | E100: ${T2} = '2' or ${T8} = '1' | H100: T9. In the <span style="color:red">past</span>, did you ever smoke <span style="color:red">daily</span>? | M100: T9. <span style="color:red">අතීතයේදී කවදා හෝ</span> ඔබ <span style="color:red">දිනපතා</span> දුම්පානය කර තිබේද? | R100: T9. <span style="color:red">கடந்த காலங்களில் எப்போதாவது நாளாந்தம் புகை பிடித்துள்ளீர்களா</span>?
A101: integer | B101: T10 | C101: (.>=8 and .<=${maxage}) or .=77 | D101: yes | E101: ${T1} = '2' and ${T8} = '1' | H101: T10. How old were you when you <span style="color:red">stopped</span> smoking? | I101: Age must be at least 8 and no more than the upper age limit of the survey. | J101: Enter '77' if not known. | M101: T10. දුම්පානය <span style="color:red">නවත්වන විට ඔබගේ වයස කීයද? | N101: වයස අවම වශයෙන් අවුරුදු 8 විය යුතු අතර සමීක්ෂණයේ උපරිම වයස් සීමාවට වඩා වැඩි නොවිය යුතුය. | O101: නොදන්නේ නම් "77" ඇතුළත් කරන්න. | R101: T10. நீங்கள் புகைப்பிடிப்பதை <span style="color:red">நிறுத்திய</span> போது உங்களது வயது என்ன? | S101: Age must be at least 8 and no more than the upper age limit of the survey. | T101: Enter '77' if not known.
A102: begin group | B102: T11grp | E102: ${T1} = '2' and ${T8} = '1' and ${T10} = '77' | G102: field-list
A103: integer | B103: T11 | H103: T11. How <span style="color:red">long ago</span> did you stop smoking? | J103: Leave blank if not known; otherwise, answer must be between 1 and 61 for Years, 1 to 11 for Months, or 1 to 30 for Weeks. | M103: T11. ඔබ දුම්පානය නැවැත්වූයේ <span style="color:red">කොපමණ කාලයකට පෙරද</span>? | O103: නොදන්නේ නම් හිස්ව තබන්න; නැතිනම් පිළිතුර වසර සඳහා 1 සිට 61 ද මාස සඳහා 1 සිට 11 ද සති සඳහා 1 සිට 30 අතර විය යුතුය. | R103: T11. <span style="color:red">எவ்வளவு காலத்திற்கு</span> முன் புகைப்பிடிப்பதை நிறுத்தினீர்கள்? (ஒன்றை மட்டும் பதியவும் , மூன்றையும் அல்ல) | T103: Leave blank if not known; otherwise, answer must be between 1 and 61 for Years, 1 to 11 for Months, or 1 to 30 for Weeks.
A104: select_one time2 | B104: T11type | C104: (${T11type} = 'weeks' and ${T11} > 0 and ${T11} <= 30) or (${T11type} = 'months' and ${T11} > 0 and ${T11} <= 11) or (${T11type} = 'years' and ${T11} > 0 and ${T11} <=61) or (${T11type} = '77' and ${T11} = '') | D104: yes | H104: Please select whether answer is in years, months, or weeks, or whether respondent doesn't know. | M104: කරුණාකර පිළිතුර අවුරුදු, මාස හෝ සති වලින් ද ප්‍රතිචාර දක්වන්නා නොදන්නේ ද යන්න තෝරන්න. | R104: 6. பதிலானது ஆண்டிலோ,மாதத்திலோ, அல்லது வாரத்திலோ இருக்கின்றது என்பதை தயவு செய்து தெரிவு செய்க. அல்லது பதிலளிப்பவருக்கு தெரியவில்லை யெனின்,தெரியாது என்பதை தெரிவு செய்க.
A105: end group
A107: begin group | B107: T12grp | G107: field-list
A108: select_one y_n | B108: T12 | D108: yes | H108: T12. Do you <span style="color:red">currently</span> use any <span style="color:red">smokeless tobacco</span> products such as <span style="color:red">chewing tobacco with betel, snuff by nose, chewing tobacco, Baabul</span>? | M108: T12. ඔබ <span style="color:red">දැනට දුම් රහිත දුම්කොළ</span> නිෂ්පාදන පාවිච්චි කරනවාද (<span style="color:red">දුම්කොළ සමඟ බුලත්විට, නාසයෙන් ආඝ්‍රානය කරන දුම් කුඩු , හපන දුම්කොළ, බාබුල්</span> ආදී ? | R108: T12. நீங்கள் தற்போது எந்தவொரு புகை இல்லாத புகையிலை உற்பத்திப் பொருட்களான புகையிலையுடன் வெற்றிலை மெல்லுதல், மூக்கினால் நுகரப்படுபவை, மெல்லும் புகையிலை, பாபுல் போன்றவற்றைப் பாவிக்கின்றீர்களா?
...

Sheet choices
A1: list name | B1: name | C1: label::English | D1: label::Sinhala | E1: label::Tamil
A2: unino | B2: name | C2: uni_key | D2: uni_key | E2: uni_key
A3: y_n | B3: 1 | C3: Yes | D3: ඔව් | E3: ஆம்
A4: y_n | B4: 2 | C4: No | D4: නැත | E4: இல்லை
A6: result_code | B6: 1 | C6: Fully Completed | D6: සම්පුර්ණ | E6: பூரணமாக பூர்த்தி செய்யப்பட்டது
A7: result_code | B7: 2 | C7: Partially Completed | D7: අර්ධ වශයෙන් සම්පුර්ණ | E7: பகுதி பூர்த்தி செய்யப்பட்டது
A8: result_code | B8: 3 | C8: No respondent | D8: සහභාගිවන්නා නොමැත | E8: தகுந்த பதிலளிப்பவர் இல்லை
A9: result_code | B9: 4 | C9: Refused | D9: ප්‍රතික්ෂේප කළ | E9: மறுக்கப்பட்டது
A10: result_code | B10: 5 | C10: Housing Unit is temporarily closed | D10: නිවාස ඒකකය තාවකාලිකව වසා ඇත | E10: வீட்டுக்கூறு தற்காலிகமாக மூடப்பட்டது
A11: result_code | B11: 6 | C11: Housing Unit is Distroyed | D11: නිවාස ඒකකය විනාශ වී ඇත | E11: வீட்டுக்கூறு அழிக்கப்பட்டது
A12: result_code | B12: 7 | C12: Other | D12: වෙනත් | E12: வேறு
A14: lang | B14: 1 | C14: Sinhala | D14: සිංහල | E14: தமிழ்
A15: lang | B15: 2 | C15: Tamil | D15: දෙමළ | E15: ஆங்கிலம்
A16: lang | B16: 3 | C16: English | D16: ඉංග්‍රීසි | E16: சிங்களம்
... A59: empstatus | B59: 6 | C59: Contributing family worker | D59: වැටුප් නොලබා පවුලේ වැඩකටයුතුවලට දායකවන්නා | E59: குடும்பப் பங்களிப்பு
A61: time1 | B61: daily | C61: Daily | D61: දිනපතා | E61: தினந்தோறும்
A62: time1 | B62: weekly | C62: Weekly | D62: සතිපතා | E62: கிழமைகளில்
A64: quin | B64: 1 | C64: ≤ 10,000 | D64: ≤ 10,000 | E64: ≤ 10,000
A65: quin | B65: 2 | C65: 10,001- 23,500 | D65: 10,001- 23,500 | E65: 10,001- 23,500
A66: quin | B66: 3 | C66: 23,501- 36,500 | D66: 23,501- 36,500 | E66: 23,501- 36,500
A67: quin | B67: 4 | C67: 36,501- 52,000 | D67: 36,501- 52,000 | E67: 36,501- 52,000
A68: quin | B68: 5 | C68: 52,001- 81,500 | D68: 52,001- 81,500 | E68: 52,001- 81,500
A69: quin | B69: 6 | C69: more than 81501 | D69: 81,001 ට වැඩි | E69: 81501 ஐ விட
A70: quin | B70: 77 | C70: Don't Know | D70: නොදනී | E70: தெரியாது எனின்
A71: quin | B71: 88 | C71: Refused | D71: ප්‍රතික්ෂේප කළා | E71: விடையளிக்க மறுப்பு
A73: water_src | B73: 1 | C73: Protected well | D73: ආරක්ෂිත ළිඳ | E73: பாதுகாப்பான கிணறு
A74: water_src | B74: 2 | C74: Semi protected well | D74: අර්ධ ආරක්ෂිත ළිඳ | E74: பகுதி பாதுகாப்பான கிணறு
A75: water_src | B75: 3 | C75: Unprotected well | D75: අනාරක්‍ෂිත ළිඳ | E75: பாதுகாப்பற்ற கிணறு
A76: water_src | B76: 4 | C76: Tap within unit | D76: නිවස තුළ ඇති ජල කරාමය | E76: வீட்டுக் கூறினுள் நீர்க்குழாய்
... A143: owner | B143: 6 | C143: Others | D143: වෙනත් | E143: வேறு
A145: time2 | B145: years | C145: Years | D145: අවුරුදු | E145: வருடங்கள்
A146: time2 | B146: months | C146: Months | D146: මාස | E146: மாதங்கள்
A147: time2 | B147: weeks | C147: Weeks | D147: සති | E147: வாரங்கள்
A148: time2 | B148: 77 | C148: Don't know | D148: නොදනී | E148: தெரியாது
A150: dk | B150: 77 | C150: Don't know | D150: නොදනී | E150: தெரியாது
A152: quit | B152: 1 | C152: Yes | D152: ඔව් | E152: ஆம்
A153: quit | B153: 2 | C153: No | D153: නැත | E153: இல்லை
A154: quit | B154: 3 | C154: No visit during the past 12 months | D154: පසු ගිය මාස 12 ඇතුළත හමුවීමක් සිදු නොවීය | E154: கடந்த 12 மாதங்களில் சந்திக்கவில்லை
A156: yn_dk | B156: 1 | C156: Yes | D156: ඔව් | E156: ஆம்
A157: yn_dk | B157: 2 | C157: No | D157: නැත | E157: இல்லை
A158: yn_dk | B158: 3 | C158: Don't work in a closed area | D158: ආවරණය කළ ස්ථානයක සේවය නොකරයි | E158: மூடிய பகுதியில் வேலை செய்வதில்லை
A160: y_n_dk | B160: 1 | C160: Yes | D160: ඔව් | E160: ஆம்
A161: y_n_dk | B161: 2 | C161: No | D161: නැත | E161: இல்லை
A162: y_n_dk | B162: 77 | C162: Don't know | D162: නොදනී | E162: தெரியாது
A164: warn | B164: 1 | C164: Yes | D164: ඔව් | E164: ஆம்
... A416: hlcuse | B416: 1 | C416: 1 - Not at all useful | D416: 1 - කිසිසේත්ම ප්‍රයෝජනවත් නැත | E416: 1 - மிகவும் மோசமானது,
A417: hlcuse | B417: 2 | C417: 2 | D417: 2 | E417: 2
A418: hlcuse | B418: 3 | C418: 3 | D418: 3 | E418: 3
A419: hlcuse | B419: 4 | C419: 4 | D419: 4 | E419: 4
A420: hlcuse | B420: 5 | C420: 5 - Neutral | D420: 5 - මධ්‍යස්ථ | E420: 5 - சரி
A421: hlcuse | B421: 6 | C421: 6 | D421: 6 | E421: 6
A422: hlcuse | B422: 7 | C422: 7 | D422: 7 | E422: 7
A423: hlcuse | B423: 8 | C423: 8 | D423: 8 | E423: 8
A424: hlcuse | B424: 9 | C424: 9 | D424: 9 | E424: 9
A425: hlcuse | B425: 10 | C425: 10 - Very much useful | D425: 10 - බොහෝම ප්‍රයෝජනවත් | E425: 10 - மிகவும் நன்று)
A427: ynemedia | B427: 1 | C427: Yes | D427: ඔව් | E427: ஆம்
A428: ynemedia | B428: 2 | C428: No | D428: නැත | E428: இல்லை
A429: ynemedia | B429: 3 | C429: I do not watch or hear electronic media | D429: විද්‍යුත් මාධ්‍ය භාවිත කරන්නේ නැත | E429: நான் இலத்திரனியல் ஊடகங்கள் பார்ப்பதில்லை
A431: ynpmedia | B431: 1 | C431: Yes | D431: ඔව් | E431: ஆம்
A432: ynpmedia | B432: 2 | C432: No | D432: නැත | E432: இல்லை
A433: ynpmedia | B433: 3 | C433: I do not read local printed media | D433: මුද්‍රිත මාධ්‍ය භාවිත කරන්නේ නැත | E433: நான் அச்சிடப்பட்ட ஊடகங்கள் வாசிப்பதில்லை
A435: ynboards | B435: 1 | C435: Yes | D435: ඔව් | E435: ஆம்
A436: ynboards | B436: 2 | C436: No | D436: නැත | E436: இல்லை
A437: ynboards | B437: 3 | C437: I do not read billboards | D437: වෙළඳ පුවරු නරඔන්නේ නැත | E437: நான் விளம்பரப் பலகைகள், சுவரொட்டிகள் வாசிப்பதில்லை
A439: yncinema | B439: 1 | C439: Yes | D439: ඔව් | E439: ஆம்
A440: yncinema | B440: 2 | C440: No | D440: නැත | E440: இல்லை
... A507: district | B507: 25 | C507: Vavuniya | D507: වවුනියාව | E507: வவுனியா
A511: time_dd | B511: 01 | C511: 01 | D511: 01 | E511: 01
A512: time_dd | B512: 02 | C512: 02 | D512: 02 | E512: 02
A513: time_dd | B513: 03 | C513: 03 | D513: 03 | E513: 03
A514: time_dd | B514: 04 | C514: 04 | D514: 04 | E514: 04
A515: time_dd | B515: 05 | C515: 05 | D515: 05 | E515: 05
A516: time_dd | B516: 06 | C516: 06 | D516: 06 | E516: 06
A517: time_dd | B517: 07 | C517: 07 | D517: 07 | E517: 07
A518: time_dd | B518: 08 | C518: 08 | D518: 08 | E518: 08
A519: time_dd | B519: 09 | C519: 09 | D519: 09 | E519: 09
A520: time_dd | B520: 10 | C520: 10 | D520: 10 | E520: 10
A521: time_dd | B521: 11 | C521: 11 | D521: 11 | E521: 11
A522: time_dd | B522: 12 | C522: 12 | D522: 12 | E522: 12
... A556: time_mm | B556: 77 | C556: Don't know | D556: නොදනී | E556: Don't know
A558: =IF(OR(B558="", B558="Formula"),"","time_yyyy") -> time_yyyy | B558: =YEAR(TODAY())-survey!F9 -> 1955 | C558: =IF(B558=7777,"Don't know",B558) -> 1955 | D558: =IF(C558=7777,"Don't know",C558) -> 1955 | E558: =IF(D558=7777,"Don't know",D558) -> 1955
A559: =IF(OR(B559="", B559="Formula"),"","time_yyyy") -> time_yyyy | B559: =IF(COUNT(B$558:B558)>(survey!F$9-survey!F$8),IF(COUNTIF(B$558:B558,7777)=0,7777,"Formula"),B558+1) -> 1956 | C559: =IF(B559=7777,"Don't know",B559) -> 1956 | D559: =IF(C559=7777,"Don't know",C559) -> 1956 | E559: =IF(D559=7777,"Don't know",D559) -> 1956
A560: =IF(OR(B560="", B560="Formula"),"","time_yyyy") -> time_yyyy | B560: =IF(COUNT(B$558:B559)>(survey!F$9-survey!F$8),IF(COUNTIF(B$558:B559,7777)=0,7777,"Formula"),B559+1) -> 1957 | C560: =IF(B560=7777,"Don't know",B560) -> 1957 | D560: =IF(C560=7777,"Don't know",C560) -> 1957 | E560: =IF(D560=7777,"Don't know",D560) -> 1957
A561: =IF(OR(B561="", B561="Formula"),"","time_yyyy") -> time_yyyy | B561: =IF(COUNT(B$558:B560)>(survey!F$9-survey!F$8),IF(COUNTIF(B$558:B560,7777)=0,7777,"Formula"),B560+1) -> 1958 | C561: =IF(B561=7777,"Don't know",B561) -> 1958 | D561: =IF(C561=7777,"Don't know",C561) -> 1958 | E561: =IF(D561=7777,"Don't know",D561) -> 1958
A562: =IF(OR(B562="", B562="Formula"),"","time_yyyy") -> time_yyyy | B562: =IF(COUNT(B$558:B561)>(survey!F$9-survey!F$8),IF(COUNTIF(B$558:B561,7777)=0,7777,"Formula"),B561+1) -> 1959 | C562: =IF(B562=7777,"Don't know",B562) -> 1959 | D562: =IF(C562=7777,"Don't know",C562) -> 1959 | E562: =IF(D562=7777,"Don't know",D562) -> 1959
A563: =IF(OR(B563="", B563="Formula"),"","time_yyyy") -> time_yyyy | B563: =IF(COUNT(B$558:B562)>(survey!F$9-survey!F$8),IF(COUNTIF(B$558:B562,7777)=0,7777,"Formula"),B562+1) -> 1960 | C563: =IF(B563=7777,"Don't know",B563) -> 1960 | D563: =IF(C563=7777,"Don't know",C563) -> 1960 | E563: =IF(D563=7777,"Don't know",D563) -> 1960
A564: =IF(OR(B564="", B564="Formula"),"","time_yyyy") -> time_yyyy | B564: =IF(COUNT(B$558:B563)>(survey!F$9-survey!F$8),IF(COUNTIF(B$558:B563,7777)=0,7777,"Formula"),B563+1) -> 1961 | C564: =IF(B564=7777,"Don't know",B564) -> 1961 | D564: =IF(C564=7777,"Don't know",C564) -> 1961 | E564: =IF(D564=7777,"Don't know",D564) -> 1961
A565: =IF(OR(B565="", B565="Formula"),"","time_yyyy") -> time_yyyy | B565: =IF(COUNT(B$558:B564)>(survey!F$9-survey!F$8),IF(COUNTIF(B$558:B564,7777)=0,7777,"Formula"),B564+1) -> 1962 | C565: =IF(B565=7777,"Don't know",B565) -> 1962 | D565: =IF(C565=7777,"Don't know",C565) -> 1962 | E565: =IF(D565=7777,"Don't know",D565) -> 1962
A566: =IF(OR(B566="", B566="Formula"),"","time_yyyy") -> time_yyyy | B566: =IF(COUNT(B$558:B565)>(survey!F$9-survey!F$8),IF(COUNTIF(B$558:B565,7777)=0,7777,"Formula"),B565+1) -> 1963 | C566: =IF(B566=7777,"Don't know",B566) -> 1963 | D566: =IF(C566=7777,"Don't know",C566) -> 1963 | E566: =IF(D566=7777,"Don't know",D566) -> 1963
A567: =IF(OR(B567="", B567="Formula"),"","time_yyyy") -> time_yyyy | B567: =IF(COUNT(B$558:B566)>(survey!F$9-survey!F$8),IF(COUNTIF(B$558:B566,7777)=0,7777,"Formula"),B566+1) -> 1964 | C567: =IF(B567=7777,"Don't know",B567) -> 1964 | D567: =IF(C567=7777,"Don't know",C567) -> 1964 | E567: =IF(D567=7777,"Don't know",D567) -> 1964
A568: =IF(OR(B568="", B568="Formula"),"","time_yyyy") -> time_yyyy | B568: =IF(COUNT(B$558:B567)>(survey!F$9-survey!F$8),IF(COUNTIF(B$558:B567,7777)=0,7777,"Formula"),B567+1) -> 1965 | C568: =IF(B568=7777,"Don't know",B568) -> 1965 | D568: =IF(C568=7777,"Don't know",C568) -> 1965 | E568: =IF(D568=7777,"Don't know",D568) -> 1965
A569: =IF(OR(B569="", B569="Formula"),"","time_yyyy") -> time_yyyy | B569: =IF(COUNT(B$558:B568)>(survey!F$9-survey!F$8),IF(COUNTIF(B$558:B568,7777)=0,7777,"Formula"),B568+1) -> 1966 | C569: =IF(B569=7777,"Don't know",B569) -> 1966 | D569: =IF(C569=7777,"Don't know",C569) -> 1966 | E569: =IF(D569=7777,"Don't know",D569) -> 1966
A570: =IF(OR(B570="", B570="Formula"),"","time_yyyy") -> time_yyyy | B570: =IF(COUNT(B$558:B569)>(survey!F$9-survey!F$8),IF(COUNTIF(B$558:B569,7777)=0,7777,"Formula"),B569+1) -> 1967 | C570: =IF(B570=7777,"Don't know",B570) -> 1967 | D570: =IF(C570=7777,"Don't know",C570) -> 1967 | E570: =IF(D570=7777,"Don't know",D570) -> 1967
... A609: =IF(OR(B609="", B609="Formula"),"","time_yyyy") -> time_yyyy | B609: =IF(COUNT(B$558:B608)>(survey!F$9-survey!F$8),IF(COUNTIF(B$558:B608,7777)=0,7777,"Formula"),B608+1) -> 2006 | C609: =IF(B609=7777,"Don't know",B609) -> 2006 | D609: =IF(C609=7777,"Don't know",C609) -> 2006 | E609: =IF(D609=7777,"Don't know",D609) -> 2006
A610: =IF(OR(B610="", B610="Formula"),"","time_yyyy") -> time_yyyy | B610: =IF(COUNT(B$558:B609)>(survey!F$9-survey!F$8),IF(COUNTIF(B$558:B609,7777)=0,7777,"Formula"),B609+1) -> 7777 | C610: =IF(B610=7777,"Don't know",B610) -> Don't know | D610: =IF(B610=7777,"නොදනී",B610) -> නොදනී | E610: =IF(B610=7777,"தெரியாது எனின்",B610) -> தெரியாது எனின்
A611: =IF(OR(B611="", B611="Formula"),"","time_yyyy") | B611: =IF(COUNT(B$558:B610)>(survey!F$9-survey!F$8),IF(COUNTIF(B$558:B610,7777)=0,7777,"Formula"),B610+1) -> Formula | C611: =IF(B611=7777,"Don't know",B611) -> Formula | D611: =IF(B611=7777,"නොදනී",B611) -> Formula | E611: =IF(B611=7777,"தெரியாது எனின்",B611) -> Formula
A612: =IF(OR(B612="", B612="Formula"),"","time_yyyy") | B612: =IF(COUNT(B$558:B611)>(survey!F$9-survey!F$8),IF(COUNTIF(B$558:B611,7777)=0,7777,"Formula"),B611+1) -> Formula | C612: =IF(B612=7777,"Don't know",B612) -> Formula | D612: =IF(B612=7777,"නොදනී",B612) -> Formula | E612: =IF(B612=7777,"தெரியாது எனின்",B612) -> Formula
A613: =IF(OR(B613="", B613="Formula"),"","time_yyyy") | B613: =IF(COUNT(B$558:B612)>(survey!F$9-survey!F$8),IF(COUNTIF(B$558:B612,7777)=0,7777,"Formula"),B612+1) -> Formula | C613: =IF(B613=7777,"Don't know",B613) -> Formula | D613: =IF(B613=7777,"නොදනී",B613) -> Formula | E613: =IF(B613=7777,"தெரியாது எனின்",B613) -> Formula
A614: =IF(OR(B614="", B614="Formula"),"","time_yyyy") | B614: =IF(COUNT(B$558:B613)>(survey!F$9-survey!F$8),IF(COUNTIF(B$558:B613,7777)=0,7777,"Formula"),B613+1) -> Formula | C614: =IF(B614=7777,"Don't know",B614) -> Formula | D614: =IF(B614=7777,"නොදනී",B614) -> Formula | E614: =IF(B614=7777,"தெரியாது எனின்",B614) -> Formula
A615: =IF(OR(B615="", B615="Formula"),"","time_yyyy") | B615: =IF(COUNT(B$558:B614)>(survey!F$9-survey!F$8),IF(COUNTIF(B$558:B614,7777)=0,7777,"Formula"),B614+1) -> Formula | C615: =IF(B615=7777,"Don't know",B615) -> Formula | D615: =IF(B615=7777,"නොදනී",B615) -> Formula | E615: =IF(B615=7777,"தெரியாது எனின்",B615) -> Formula
...

Sheet settings
A1: title | B1: form_id | C1: instance_name | D1: default_language
A2: STEPS1_ES | B2: STEPS1_ES | C2: pulldata('STEPS','form_name','hhid_key','1') | D2: English
