Workbook
Name _Hlk504996363: choices!$D$73

Sheet survey
A1: type | B1: name | C1: constraint | D1: required | E1: relevant | F1: calculation | G1: appearance | H1: label::English | I1: constraint_message::English | J1: hint::English | K1: required_message::English | L1: media::image::English | M1: label::Sinhala | N1: constraint_message::Sinhala | O1: hint::Sinhala | P1: required_message::Sinhala | Q1: media::image::Sinhala | R1: label::Tamil | S1: constraint_message::Tamil | T1: hint::Tamil | U1: required_message::Tamil | V1: media::image::Tamil
A3: today | B3: I4
A4: start | B4: I7
A5: end | B5: end
A6: deviceid | B6: deviceid
A7: subscriberid | B7: subscriberid
A8: calculate | B8: minage | F8: 18
A9: calculate | B9: maxage | F9: 69
A11: begin group | B11: pid_hhsize | G11: field-list
A12: calculate | B12: pid | F12: once(pulldata('STEPS','member_id','hhid_key','1'))
A13: note | B13: pid_note | H13: PID: ${pid} | J13: Participant ID | M13: PID: ${pid} | O13: සහභාගිවන්නාගේ හඳුනා ගැනීමේ අංකය | R13: PID: ${pid} | T13: Participant ID
A14: calculate | B14: hh_size | F14: once(pulldata('STEPS','hh_size','hhid_key','1'))
A15: note | B15: hh_size_note | H15: Household size: ${hh_size} | M15: Household size: ${hh_size} | R15: Household size: ${hh_size}
A16: calculate | B16: device_id | F16: once(pulldata('STEPS','device_id','hhid_key','1'))
A17: barcode | B17: qr_scanned | C17: .>0000 and .<8001 | H17: Scan the barcode on the participant's Clinic Appointment Card | M17: සහභාගිවන්නාගේ සායනික කාඩ් පතෙහි සඳහන් තීරු සංකේතය පරිලෝකනය කරන්න. | R17: பங்கு பற்றுபவரின் கிளினிக் நியமன அட்டையிலுள்ள பட்டைக்குறியீட்டை வருடுக.
A18: end group
A19: begin group | B19: qr_manual_group
A20: text | B20: qr_manual | C20: (regex(.,'[0-9]{4}')) and ( .>0000 and .<8001) or (.=9999) | D20: yes | E20: ${qr_scanned} = '' | H20: If you can't scan the QR code, please enter it manually below. | I20: Please enter "9999" for training purposes only. | M20: ඔබට තීරු සංකේතය පරිලෝකනය කළ නොහැකි නම් කරුණාකර එම අංකය ඇතුළත් කරන්න. | N20: පුහුණු වීම් සඳහා පමණක් කරුණාකර "9999" ඇතුළත් කරන්න. | R20: உங்களால் பட்டைக் குறியீட்டை வருட முடியவில்லை யெனின், தயவு செய்து அதை கீழே கையினலே உள்ளீடு செய்க. | S20: Please enter "9999" for training purposes only.
A21: end group
A22: select_one unino | B22: hh_id | D22: yes | G22: search search('unino') | H22: Select the Unique No. | M22: අනන්‍යතා අංකය තෝරන්න. | R22: அடையாள எண்ணைத் தேர்ந்தெடுக்கவும்.
A23: begin group | B23: uni_grp | G23: field-list
A24: note | B24: uni_note | H24: Unique No : ${hh_id} | M24: අනන්‍යතා අංකය : ${hh_id} | R24: அடையாள எண் : ${hh_id}
A25: calculate | B25: dist | F25: pulldata('unino','dist','uni_key',${hh_id})
A26: note | B26: dist_note | H26: District : ${dist} | M26: දිස්ත්‍රික්කය : ${dist} | R26: மாவட்டம் : ${dist}
A27: calculate | B27: ao | F27: pulldata('unino','ao','uni_key',${hh_id})
A28: note | B28: ao_note | H28: Census Block No (AO) : ${ao} | M28: සංගණන කාණ්ඩ අංකය (AO) : ${ao} | R28: தொகைமதிப்புக் கண்ட இலக்கம் (A0) : ${ao}
A29: calculate | B29: psu | F29: pulldata('unino','psu','uni_key',${hh_id})
A30: note | B30: psu_note | H30: PSU No : ${psu} | M30: ප්‍රාථමික නියැදි ඒ්කකය (PSU No.) : ${psu} | R30: ஆரம்ப மாதிரி இலக்கம் (PSU NO) : ${psu}
A31: calculate | B31: sampleno | F31: pulldata('unino','sampleno','uni_key',${hh_id})
A32: note | B32: sampleno_note | H32: Housing unit sample No (within census block) : ${sampleno} | M32: නිවාස ඒකකයේ නියැදි යොමු අංකය (සංගණන කාණ්ඩය තුළ) : ${sampleno} | R32: வீட்டுக்கூறின் மாதிரி இலக்கம் (தொகைமதிப்புக் கண்டத்தினுள்) : ${sampleno}
A33: end group | B33: </uni_grp>
A35: begin group | B35: location_date | G35: field-list | H35: Location and Date | M35: ස්ථානය සහ දිනය | R35: இடம் மற்றும் திகதி.
A36: integer | B36: I3 | C36: .>0 | D36: yes | H36: I3. Interviewer ID | I36: ID must be a positive number. | K36: Please enter a response for all questions on the screen. | M36: I3. සම්මුඛ පරීක්ෂණය සිදු කරන්නාගේ හඳුනා ගැනීමේ අංකය | N36: හඳුනා ගැනීමේ අංකය ධන අංකයක් විය යුතුය. | P36: කරුණාකර තිරයේ ඇති සියලු ප්‍රශ්න සඳහා ප්‍රතිචාරය ලබා දෙන්න. | R36: I3. நேர்காணலை மேற்கொள்பவரின் அ.இல | S36: ID must be a positive number. | U36: Please enter a response for all questions on the screen.
A37: end group
A39: begin group | B39: consent_language_name | H39: Consent, Interview Language and Name | M39: කැමැත්ත ප්‍රකාශ කිරීම, සම්මුඛ පරීක්ෂණය සිදු කරන භාෂාව සහ නම | R39: இணக்கப்பாடு, நேர்காணல் மொழி மற்றும் பெயர்
A40: select_one y_n | B40: I5 | D40: yes | H40: I5. Consent has been read and obtained | M40: I5. කැමැත්ත ප්‍රකාශ කිරීමේ පත්‍රිකාව කියවා කැමැත්ත ලබා ගත්තාද? | R40: I5. இணக்கப்பாட்டுப் படிவம் வாசிக்கப்பட்டு இணக்கப்பாடு பெறப்பட்டது
A41: select_one lang | B41: I6 | D41: yes | E41: ${I5} = '1' | H41: I6. Interview Language | M41: I6. සම්මුඛ පරීක්ෂණය සිදුකරන භාෂාව | R41: I6. நேர்காணலுக்கான மொழி
A42: note | B42: I8 | E42: ${I5} = '1' | F42: once(pulldata('STEPS','family_surname','hhid_key','1')) | H42: I8. Last Name (<span style="color:red">Surname</span>) | M42: I8. සහභාගි වන්නාගේ <span style="color:red">වාසගම</span> | R42: I8. கடைசிப் பெயர் (<span style="color:red">குடும்ப பெயர்</span>)
A43: note | B43: I9 | E43: ${I5} = '1' | F43: once(pulldata('STEPS','first_name','hhid_key','1')) | H43: I9. First Name | M43: I9. සහභාගි වන්නාගේ <span style="color:red">මුල්නම</span> | R43: I9. முதற் பெயர்
A44: text | B44: I10 | C44: regex(.,'[0-9]{10}') or .=77 or .=88 | E44: ${I5} = '1' | H44: I10. Contact phone number where possible | I44: Ten-digit number with area code or mobile number, Enter '77' if not known and '88' for refused. | J44: Ten-digit number with area code or mobile number, Enter '77' if not known and '88' for refused. | M44: I10. දුරකථන අංකය (ප්‍රදේශයේ කේතය සහිත <span style="color:red">ඉලක්කම් 10ක අංකය</span> හෝ ජංගම දුරකථන අංකය) | N44: ප්‍රදේශයේ කේතය සහිත ඉලක්කම් 10ක අංකය හෝ ජංගම දුරකථන අංකය | O44: ප්‍රදේශයේ කේතය සහිත ඉලක්කම් 10ක අංකය හෝ ජංගම දුරකථන අංකය | R44: I10. முடியுமாயின் தொடர்பு கொள்ளக் கூடிய தொலைபேசி இலக்கம் (பிரதேச குறியீட்டு இலக்கத்துடன் (<span style="color:red">பத்து இலக்கங்கள்</span> அல்லது கையடக்கத் தொலைபேசி இலக்கம்) | S44: Ten-digit number with area code or mobile number, Enter '77' if not known and '88' for refused. | T44: Ten-digit number with area code or mobile number, Enter '77' if not known and '88' for refused.
...

Sheet choices
A1: list name | B1: name | C1: label::English | D1: label::Sinhala | E1: label::Tamil
A2: unino | B2: name | C2: uni_key | D2: uni_key | E2: uni_key
A3: y_n | B3: 1 | C3: Yes | D3: ඔව් | E3: ஆம்
A4: y_n | B4: 2 | C4: No | D4: නැත | E4: இல்லை
A6: result_code | B6: 1 | C6: Fully Completed | D6: සම්පුර්ණ | E6: பூரணமாக பூர்த்தி செய்யப்பட்டது
A7: result_code | B7: 2 | C7: Partially Completed | D7: අර්ධ වශයෙන් සම්පුර්ණ | E7: பகுதி பூர்த்தி செய்யப்பட்டது
A8: result_code | B8: 3 | C8: No respondent | D8: සහභාගිවන්නා නොමැත | E8: தகுந்த பதிலளிப்பவர் இல்லை
A9: result_code | B9: 4 | C9: Refused | D9: ප්‍රතික්ෂේප කළ | E9: மறுக்கப்பட்டது
A10: result_code | B10: 5 | C10: Housing Unit is temporarily closed | D10: නිවාස ඒකකය තාවකාලිකව වසා ඇත | E10: வீட்டுக்கூறு தற்காலிகமாக மூடப்பட்டது
A11: result_code | B11: 6 | C11: Housing Unit is Distroyed | D11: නිවාස ඒකකය විනාශ වී ඇත | E11: வீட்டுக்கூறு அழிக்கப்பட்டது
A12: result_code | B12: 7 | C12: Other | D12: වෙනත් | E12: வேறு
A14: lang | B14: 1 | C14: Sinhala | D14: සිංහල | E14: தமிழ்
A15: lang | B15: 2 | C15: Tamil | D15: දෙමළ | E15: ஆங்கிலம்
A16: lang | B16: 3 | C16: English | D16: ඉංග්‍රීසි | E16: சிங்களம்
... A59: empstatus | B59: 6 | C59: Contributing family worker | D59: වැටුප් නොලබා පවුලේ වැඩකටයුතුවලට දායකවන්නා | E59: குடும்பப் பங்களிப்பு
A61: time1 | B61: daily | C61: Daily | D61: දිනපතා | E61: தினந்தோறும்
A62: time1 | B62: weekly | C62: Weekly | D62: සතිපතා | E62: கிழமைகளில்
A64: quin | B64: 1 | C64: ≤ 10,000 | D64: ≤ 10,000 | E64: ≤ 10,000
A65: quin | B65: 2 | C65: 10,001- 23,500 | D65: 10,001- 23,500 | E65: 10,001- 23,500
A66: quin | B66: 3 | C66: 23,501- 36,500 | D66: 23,501- 36,500 | E66: 23,501- 36,500
A67: quin | B67: 4 | C67: 36,501- 52,000 | D67: 36,501- 52,000 | E67: 36,501- 52,000
A68: quin | B68: 5 | C68: 52,001- 81,500 | D68: 52,001- 81,500 | E68: 52,001- 81,500
A69: quin | B69: 6 | C69: more than 81501 | D69: 81,001 ට වැඩි | E69: 81501 ஐ விட
A70: quin | B70: 77 | C70: Don't Know | D70: නොදනී | E70: தெரியாது எனின்
A71: quin | B71: 88 | C71: Refused | D71: ප්‍රතික්ෂේප කළා | E71: விடையளிக்க மறுப்பு
A73: water_src | B73: 1 | C73: Protected well | D73: ආරක්ෂිත ළිඳ | E73: பாதுகாப்பான கிணறு
A74: water_src | B74: 2 | C74: Semi protected well | D74: අර්ධ ආරක්ෂිත ළිඳ | E74: பகுதி பாதுகாப்பான கிணறு
A75: water_src | B75: 3 | C75: Unprotected well | D75: අනාරක්‍ෂිත ළිඳ | E75: பாதுகாப்பற்ற கிணறு
A76: water_src | B76: 4 | C76: Tap within unit | D76: නිවස තුළ ඇති ජල කරාමය | E76: வீட்டுக் கூறினுள் நீர்க்குழாய்
... A143: owner | B143: 6 | C143: Others | D143: වෙනත් | E143: வேறு
A145: time2 | B145: years | C145: Years | D145: අවුරුදු | E145: வருடங்கள்
A146: time2 | B146: months | C146: Months | D146: මාස | E146: மாதங்கள்
A147: time2 | B147: weeks | C147: Weeks | D147: සති | E147: வாரங்கள்
A148: time2 | B148: 77 | C148: Don't know | D148: නොදනී | E148: தெரியாது
A150: dk | B150: 77 | C150: Don't know | D150: නොදනී | E150: தெரியாது
A152: quit | B152: 1 | C152: Yes | D152: ඔව් | E152: ஆம்
A153: quit | B153: 2 | C153: No | D153: නැත | E153: இல்லை
A154: quit | B154: 3 | C154: No visit during the past 12 months | D154: පසු ගිය මාස 12 ඇතුළත හමුවීමක් සිදු නොවීය | E154: கடந்த 12 மாதங்களில் சந்திக்கவில்லை
A156: yn_dk | B156: 1 | C156: Yes | D156: ඔව් | E156: ஆம்
A157: yn_dk | B157: 2 | C157: No | D157: නැත | E157: இல்லை
...

Sheet settings
A1: title | B1: form_id | C1: instance_name | D1: default_language
A2: STEPS1_ES | B2: STEPS1_ES | C2: pulldata('STEPS','form_name','hhid_key','1') | D2: English
