Workbook

Sheet survey
A1: type | B1: name | C1: choice_filter | D1: constraint | E1: required | F1: relevant | G1: calculation | H1: appearance | I1: label::English | J1: constraint_message::English | K1: hint::English | L1: required_message::English | M1: media::image::English | N1: label::Arabic | O1: constraint_message::Arabic | P1: hint::Arabic | Q1: required_message::Arabic | R1: media::image::Arabic | S1: label::Français | T1: constraint_message::Français | U1: hint::Français | V1: required_message::Français | W1: media::image::Français | X1: label::Русский | Y1: constraint_message::Русский | Z1: hint::Русский | AA1: required_message::Русский | AB1: media::image::Русский | AC1: label::Spanish | AD1: constraint_message::Spanish | AE1: hint::Spanish | AF1: required_message::Spanish | AG1: media::image::Spanish
A3: today | B3: I4-3
A4: start | B4: I7-3
A5: end | B5: end-3
A6: deviceid | B6: deviceid-3
A7: subscriberid | B7: subscriberid-3
A8: calculate | B8: minage | G8: 18
A9: calculate | B9: maxage | G9: 69
A11: begin group | B11: pid_hhsize | H11: field-list
A12: calculate | B12: pid-3 | G12: once(pulldata('STEPS','member_id','hhid_key','1'))
A13: note | B13: pid_note | I13: PID: ${pid-3} | K13: Participant ID | N13: PID: ${pid-3} | P13: الرقم التعريفى للمجيب | S13: PID : ${pid-3} | U13: Numéro d’identification du répondant | X13: PID: ${pid-3} | Z13: Идентификационный номер участника | AC13: PID: ${pid-3} | AE13: Número de identificación del participante
A14: calculate | B14: device_id-3 | G14: once(pulldata('STEPS','device_id','hhid_key','1'))
A15: barcode | B15: qr_scanned | I15: Scan the barcode on the participant's Clinic Appointment Card | N15: امسح الباركود على بطاقة العيادة للمشارك | S15: Scan the barcode on the participant's Clinic Appointment Card | X15: Просканируйте QR код на карточке направления участника | AC15: Escanee el código de barras que se encuentra en la tarjeta de cita clínica del participante
A16: end group
A17: begin group | B17: qr_manual_group
A18: text | B18: qr_manual | E18: yes | F18: ${qr_scanned} = '' | I18: If you can't scan the QR code, please enter it manually below. | J18: Please enter the correct QR code composed of 8 characters. (You can enter "99999999" for training purposes only) | N18: إذا كان لا يمكن مسح الباركود، يرجى ادخاله يدويا. | O18: Please enter the correct QR code composed of 8 characters. (You can enter "99999999" for training purposes only) | S18: If you can't scan the QR code, please enter it manually below. | T18: Please enter the correct QR code composed of 8 characters. (You can enter "99999999" for training purposes only) | X18: Если не получается просканировать QR код, введите его ниже вручную. | Y18: Пожалуйста введите правильный QR код, который состоит из 8и цифр. (Можете вводить "99999999" только в учебных целях) | AC18: Si no puede escanear el codigo por favor ingreselo manualmente.
A19: end group
A21: begin group | B21: geo_location | I21: Location | N21: Location | S21: Location | X21: Location | AC21: Location
A22: select_one provincias | B22: I1 | E22: yes | I22: State | N22: State | S22: State | X22: State | AC22: I1. Provincia
A23: select_one cantones | B23: I1a | C23: prov=${I1} | E23: yes | I23: County | N23: County | S23: County | X23: County | AC23: l1a. Canton
A24: select_one parroquias | B24: I1b | C24: prov=${I1} and cant=${I1a} | E24: yes | I24: EA | N24: EA | S24: EA | X24: EA | AC24: l1b. Parroquia
A25: text | B25: geo_other | E25: yes | F25: ${I1} = "Otro" or ${I1a} = "Otro" or ${I1b} = "Otro" | I25: Other | N25: Other | S25: Other | X25: Other | AC25: Otro
A26: integer | B26: I3-3 | D26: .>0 | E26: yes | I26: I3. Interviewer ID | J26: ID must be a positive number. | L26: Please enter a response for all questions on the screen. | N26: I3. رمز الباحث الميداني | O26: يجب أن يكون الرقم رقم موجب | Q26: برجاء إدخال اجابة لجميع الأسئلة التي تظهر على الشاشة. | S26: I3. Code ID de l'enquêteur | T26: ID must be a positive number. | V26: SVP saisissez une réponse pour toutes les questions sur l’écran. | X26: I3. Идентификационный номер интервьюера/ опрашивающего | Y26: Код должен быть положительным числом | AA26: Пожалуйста, введите ответ на все вопросы на экране. | AC26: I3. Número de identificación del encuestador | AD26: El número de identificación debe ser un número positivo. | AF26: Por favor, introduzca una respuesta para todas las preguntas que aparecen en la pantalla.
A27: select_one y_n | B27: I5-3 | E27: yes | I27: Has participant agreed to participate in Step 3 (biochemical measures)? | N27: هل تمت اخذ موافقة المجيب او المشارك على القياسات الحيوية ؟ | S27: Has participant agreed to participate in Step 3 (biochemical measures)? | X27: Согласился ли респондент принимать участие в третьем этапе (биохимические показатели)? | AC27: ¿Está el parcipante de acuerdo en realizar el Paso 3 (mediciones bioquímicas)?
A28: end group
A30: begin group | B30: consent_language_name | F30: ${I5-3} = '1' | I30: Consent, demographics | N30: Consent, demographics | S30: Consent, demographics | X30: Получение согласия, Демографическая информация | AC30: Consent, demographics
A31: text | B31: I8-3 | G31: once(pulldata('STEPS','family_surname','hhid_key','1')) | I31: I8. Family Surname | N31: I8. إسم العائلة | S31: I8. Nom de famille | X31: I8. Фамилия | AC31: I8. Apellidos
A32: text | B32: I9-3 | G32: once(pulldata('STEPS','first_name','hhid_key','1')) | I32: I9. First Name | N32: I9. اسم الشخص المشترك | S32: I9. Prénom | X32: I9. Имя | AC32: I9. Nombre
A33: select_one m_f | B33: C1-3 | E33: yes | G33: once(pulldata('STEPS','gender','hhid_key','1')) | I33: C1. Sex | K33: Observe only, do not ask. | N33: C1. الجنس | P33: راقب فقط، لا تسأل. | S33: C1. Sexe | U33: Enregistrer comme observé. | X33: C1. Пол | Z33: (мужской / женский по внешним признакам) | AC33: C1. Sexo | AE33: No pregunte, marque masculino o femenino según lo que observe.
A34: integer | B34: C3-3 | D34: .>=${minage} and .<=${maxage} | E34: yes | G34: once(int(pulldata('STEPS','age','hhid_key','1'))) | I34: C3. How old are you? | J34: Age must be within the age range of the survey. | N34: C3. كم عمرك؟ | O34: يجب أن يكون العمر ضمن الفئة العمرية للمسح. | S34: C3. Quel âge avez-vous ? | T34: Age must be within the age range of the survey. | X34: C3. Сколько Вам лет? | Y34: Возраст должен быть в пределах возрастного диапазона исследования. | AC34: C3. ¿Qué edad tiene? | AD34: La edad debe estar dentro del rango de edad de la encuesta.
A35: end group
A37: begin group | B37: step3_biochem_measurements | F37: ${I5-3} = '1' | I37: Step 3: Biochemical Measurements | N37: الخطوة الثالثة: المقاييس الحيوية | S37: Step 3: Mesures biochimiques | X37: Этап 3. Биохимические показатели | AC37: Step 3: Datos bioquímicos
A38: begin group | B38: blood_glucose | I38: Blood Glucose | N38: السكر في الدم | S38: Glycémie | X38: Уровень сахара в крови | AC38: Glucosa en sangre
A39: select_one y_n | B39: B1 | E39: yes | I39: B1. During the past 12 hours have you had anything to eat or drink, other than water? | N39: B1. هل أكلت أو شربت شيئاً غير الماء خلال الـ 12 ساعة الماضية؟ | S39: B1. Au cours des 12 dernières heures, avez-vous bu ou mangé quelque chose, autre que de l’eau? | X39: B1. Принимали ли Вы за последние 12 часов какую-либо пищу или пили ли что-либо, кроме воды? | AC39: B1. En las últimas 12 horas, ¿ha comido o bebido otra cosa que no sea agua?
A40: integer | B40: B2 | D40: .>0 | E40: yes | G40: ${I3-3} | I40: B2. Technician ID | J40: ID must be a positive number. | N40: B2. رمز فني المختبر | O40: يجب أن يكون الرقم رقم موجب | S40: B2. Code ID du technicien | T40: ID must be a positive number. | X40: B2. Идентификатор лаборанта | Y40: Идентификатор должен быть положительным числом. | AC40: B2. Número de identificación del técnico | AD40: El número de identificación debe ser un número positivo.
A41: integer | B41: B3 | D41: .>0 | E41: yes | G41: ${I3-3} | I41: B3. Device ID | J41: ID must be a positive number. | N41: B3. رمز الجهاز | O41: يجب أن يكون الرقم رقم موجب | S41: B3. Code ID de l'appareil | T41: ID must be a positive number. | X41: B3. Идентификатор устройства | Y41: Идентификатор должен быть положительным числом. | AC41: B3. Número de identificación del dispositivo | AD41: El número de identificación debe ser un número positivo.
A42: time | B42: B4 | E42: yes | I42: B4. Time of day blood specimen taken (24 hour clock) | N42: B4. وقت أخذ عينة الدم (بتوقيت 24 ساعة) | S42: B4. Heure de la prise de sang (0-24 heures) | X42: B4. В какое время дня был взят анализ (по 24-часовой шкале) | AC42: B4. Hora en que se obtuvo la muestra de sangre (sistema de 24 horas)
A43: decimal | B43: B5 | D43: (.>=1 and .<=600) or .=77 | E43: yes | F43: ${B1} = '2' | I43: B5. Fasting blood glucose (mmol/l) | J43: Fasting blood glucose must be at least 1.1mmol/l and no more than 33.3 mmol/l. | K43: Enter '77' if participant has refused or if there is a problem with the reading. | N43: B5. سكر صايم في الدم (مليمول / لتر) | O43: يجب أن يكون السكر في الدم على الأقل 1.1 (مليمول / لتر) و لا يزيد عن 33.3 (مليمول / لتر). | P43: ادخل '77' إذا رفض المشارك أو إذا كان هناك مشكله فى القرآة | S43: B5. Glycémie à jeun (mmol/l) | T43: Fasting blood glucose must be at least 1.1mmol/l and no more than 33.3 mmol/l. | U43: Enter '77' if participant has refused or if there is a problem with the reading. | X43: B5. Уровень глюкозы в крови натощак (ммоль/лl) | Y43: Уровень глюкозы в крови натощак должен быть в пределах 1.1 и 33.3 ммоль/л. | Z43: Вводите '77' если участник отказался или в случае ошибочных результатов. | AC43: B5. Glucosa en sangre en ayunas (mg/dl) | AD43: La glucosa en sangre en ayunas debe ser de al menos 1,1 mg/dl y no superior a 600 mg/dl. | AE43: Introduzca "77" si el participante rechazó la medición o si hay un problema con la lectura.
A44: select_one y_n | B44: B6 | E44: yes | I44: B6. Today, have you taken insulin or other drugs (medication) that have been prescribed by a doctor or other health worker for raised blood glucose? | N44: B6. هل أخذت اليوم حقن أنسولين أو أي علاج للسكر وصفه لك الطبيب أو مهني الصحة لخفض معدل السكر بالدم ؟ | S44: B6. Aujourd'hui, avez-vous pris de l'insuline ou d'autres médicaments prescrits par un médecin ou un autre professionnel de santé pour le diabète? | X44: B6. Принимали ли Вы сегодня инсулин или какие-либо другие лекарственные средства от повышенного сахара в крови, назначенные врачом или другим медицинским работником? | AC44: B6. ¿Ha tomado hoy insulina u otros medicamentos (fármacos) para tratar la glucosa sanguínea elevada recetados un médico u otro profesional sanitario?
A45: end group
A46: begin group | B46: blood_lipids | I46: Blood Lipids | N46: الدهنيات في الدم | S46: Lipides sanguins | X46: Липиды в крови | AC46: Lípidos en sangre
A47: integer | B47: B7 | D47: .>0 | E47: yes | G47: ${I3-3} | I47: B7. Device ID | J47: ID must be a positive number. | N47: B7. رمز الجهاز | O47: يجب أن يكون الرقم رقم موجب | S47: B7. Code ID de l'appareil | T47: ID must be a positive number. | X47: B7. Идентификатор устройства | Y47: Идентификатор должен быть положительным числом. | AC47: B7. Número de identificación del dispositivo | AD47: El número de identificación debe ser un número positivo.
A48: decimal | B48: B8 | D48: (.>=1 and .<=400) or .=77 | E48: yes | I48: B8. Total cholesterol (mmol/l) | J48: Total cholesterol must be at least 2.59 mmol/l and no more than 10.36 mmol/l. | K48: Enter '77' if participant has refused or if there is a problem with the reading. | N48: B8. الكوليسترول الكلي (مليمول / لتر) | O48: يجب أن يكون الكوليسترول الكلي على الأقل 2.59 (مليمول / لتر) و لا يزيد عن 10.36 (مليمول / لتر). | P48: ادخل '77' إذا رفض المشارك أو إذا كان هناك مشكله فى القرآة | S48: B8. Cholestérol total (mmol/l) | T48: Total cholesterol must be at least 2.59 mmol/l and no more than 10.36 mmol/l. | U48: Enter '77' if participant has refused or if there is a problem with the reading. | X48: B8. Общий холестерин (ммоль/лl) | Y48: Общий холестерин должен быть в пределах 2.59 и 10.36 ммоль/л. | Z48: Вводите '77' если участник отказался или в случае ошибочных результатов. | AC48: B8. Colesterol total (mg/dl) | AD48: El colesterol total debe ser de al menos 1 mg/dl y no superior a 400 mg/dl. | AE48: Introduzca "77" si el participante rechazó la medición o si hay un problema con la lectura.
A49: select_one y_n | B49: B9 | E49: yes | I49: B9. During the past two weeks, have you been treated for raised cholesterol with drugs (medication) prescribed by a doctor or other health worker? | N49: B9. في خلال الأسبوعين السابقين هل أخذت أي علاج لخفض الكوليسترول بالدم وصف لك من قبل الطبيب أو كادر صحي ؟ | S49: B9. Au cours des deux dernières semaines, avez-vous suivi un traitement pour un taux de cholestérol élevé avec des médicaments prescrits par un médecin ou un autre professionnel de santé? | X49: B9. Принимали ли Вы лекарства (медицинские препараты) для снижения уровня холестерина в крови, назначенные врачом или другим медицинским работником за последние две недели? | AC49: B9. En las dos últimas semanas, ¿ha tomado medicamentos (fármacos) para el colesterol elevado en sangre recetados por un médico u otro profesional sanitario?
A50: end group
A51: end group
A53: begin group | B53: gps_coordinates-3 | H53: field-list | I53: Location | N53: الموقع | S53: Location | X53: Местоположение | AC53: Location
A54: geopoint | B54: geopoint-3 | I54: Record GPS coordinates | K54: GPS coordinates are easier to get when outside. | N54: سجل إحداثيات نظام تحديد المواقع | P54: للحصول علي إحداثيات الموقع من الافضل ان تكون بالخارج | S54: Enregistrer coordonnées GPS | U54: Les coordonnées GPS ne peuvent être collectées lorsque l'extérieur. | X54: Определение GPS координат | Z54: Если не удается получить GPS координаты, попробуйте повторить процедуру на улице, под открытым небом. | AC54: Registrar las coordenadas GPS | AE54: Sólo es posible registrar las coordenadas GPS cuando se encuentre en el exterior.
A55: end group
A56: begin group | B56: note_geopoint-3
A57: note | F57: ${geopoint-3}='' | I57: No GPS coordinates entered. Please try again. | N57: .لم يتم تسجيل إحداثيات الموقع ، برجاء المحاوله مرة اخري | S57: No GPS coordinates entered. Please try again. | X57: Вы не ввели GPS координаты. Пожалуйста попробуйте еще раз. | AC57: No GPS coordinates entered. Please try again.
A58: end group

Sheet choices
A1: list name | B1: name | C1: label::English | D1: label::Arabic | E1: label::Français | F1: label::Spanish | G1: label::Русский | H1: prov | I1: cant
A3: y_n | B3: 1 | C3: Yes | D3: نعم | E3: Oui | F3: Sí | G3: Да
A4: y_n | B4: 2 | C4: No | D4: لا | E4: Non | F4: No | G4: Нет
A6: m_f | B6: 1 | C6: Male | D6: ذكر | E6: Homme | F6: Masculino | G6: Мужской
A7: m_f | B7: 2 | C7: Female | D7: انثي | E7: Femme | F7: Femenino | G7: Женский
A9: time_dd | B9: 01 | C9: 01 | D9: 01 | E9: 01 | F9: 01 | G9: 01
A10: time_dd | B10: 02 | C10: 02 | D10: 02 | E10: 02 | F10: 02 | G10: 02
A11: time_dd | B11: 03 | C11: 03 | D11: 03 | E11: 03 | F11: 03 | G11: 03
A12: time_dd | B12: 04 | C12: 04 | D12: 04 | E12: 04 | F12: 04 | G12: 04
A13: time_dd | B13: 05 | C13: 05 | D13: 05 | E13: 05 | F13: 05 | G13: 05
A14: time_dd | B14: 06 | C14: 06 | D14: 06 | E14: 06 | F14: 06 | G14: 06
A15: time_dd | B15: 07 | C15: 07 | D15: 07 | E15: 07 | F15: 07 | G15: 07
A16: time_dd | B16: 08 | C16: 08 | D16: 08 | E16: 08 | F16: 08 | G16: 08
A17: time_dd | B17: 09 | C17: 09 | D17: 09 | E17: 09 | F17: 09 | G17: 09
A18: time_dd | B18: 10 | C18: 10 | D18: 10 | E18: 10 | F18: 10 | G18: 10
A19: time_dd | B19: 11 | C19: 11 | D19: 11 | E19: 11 | F19: 11 | G19: 11
A20: time_dd | B20: 12 | C20: 12 | D20: 12 | E20: 12 | F20: 12 | G20: 12
... A54: time_mm | B54: 77 | C54: Don't know | D54: لا أعرف | E54: Ne sait pas | F54: No sabe | G54: Не знаю
A56: =IF(OR(B56="", B56="Formula"),"","time_yyyy") -> time_yyyy | B56: =YEAR(TODAY())-survey!G9-1 -> 1948 | C56: =IF(B56=7777,"Don't know",B56) -> 1948 | D56: =IF(B56=7777,"لا أعرف",B56) -> 1948 | E56: =IF(B56=7777,"Ne sait pas",B56) -> 1948 | F56: =IF(B56=7777,"No sabe",B56) -> 1948 | G56: =IF(B56=7777,"Не знаю",B56) -> 1948
A57: =IF(OR(B57="", B57="Formula"),"","time_yyyy") -> time_yyyy | B57: =IF(COUNT(B$56:B56)>(survey!G$9-survey!G$8+2),IF(COUNTIF(B$56:B56,7777)=0,7777,"Formula"),B56+1) -> 1949 | C57: =IF(B57=7777,"Don't know",B57) -> 1949 | D57: =IF(B57=7777,"لا أعرف",B57) -> 1949 | E57: =IF(B57=7777,"Ne sait pas",B57) -> 1949 | F57: =IF(B57=7777,"No sabe",B57) -> 1949 | G57: =IF(B57=7777,"Не знаю",B57) -> 1949
A58: =IF(OR(B58="", B58="Formula"),"","time_yyyy") -> time_yyyy | B58: =IF(COUNT(B$56:B57)>(survey!G$9-survey!G$8+2),IF(COUNTIF(B$56:B57,7777)=0,7777,"Formula"),B57+1) -> 1950 | C58: =IF(B58=7777,"Don't know",B58) -> 1950 | D58: =IF(B58=7777,"لا أعرف",B58) -> 1950 | E58: =IF(B58=7777,"Ne sait pas",B58) -> 1950 | F58: =IF(B58=7777,"No sabe",B58) -> 1950 | G58: =IF(B58=7777,"Не знаю",B58) -> 1950
A59: =IF(OR(B59="", B59="Formula"),"","time_yyyy") -> time_yyyy | B59: =IF(COUNT(B$56:B58)>(survey!G$9-survey!G$8+2),IF(COUNTIF(B$56:B58,7777)=0,7777,"Formula"),B58+1) -> 1951 | C59: =IF(B59=7777,"Don't know",B59) -> 1951 | D59: =IF(B59=7777,"لا أعرف",B59) -> 1951 | E59: =IF(B59=7777,"Ne sait pas",B59) -> 1951 | F59: =IF(B59=7777,"No sabe",B59) -> 1951 | G59: =IF(B59=7777,"Не знаю",B59) -> 1951
A60: =IF(OR(B60="", B60="Formula"),"","time_yyyy") -> time_yyyy | B60: =IF(COUNT(B$56:B59)>(survey!G$9-survey!G$8+2),IF(COUNTIF(B$56:B59,7777)=0,7777,"Formula"),B59+1) -> 1952 | C60: =IF(B60=7777,"Don't know",B60) -> 1952 | D60: =IF(B60=7777,"لا أعرف",B60) -> 1952 | E60: =IF(B60=7777,"Ne sait pas",B60) -> 1952 | F60: =IF(B60=7777,"No sabe",B60) -> 1952 | G60: =IF(B60=7777,"Не знаю",B60) -> 1952
A61: =IF(OR(B61="", B61="Formula"),"","time_yyyy") -> time_yyyy | B61: =IF(COUNT(B$56:B60)>(survey!G$9-survey!G$8+2),IF(COUNTIF(B$56:B60,7777)=0,7777,"Formula"),B60+1) -> 1953 | C61: =IF(B61=7777,"Don't know",B61) -> 1953 | D61: =IF(B61=7777,"لا أعرف",B61) -> 1953 | E61: =IF(B61=7777,"Ne sait pas",B61) -> 1953 | F61: =IF(B61=7777,"No sabe",B61) -> 1953 | G61: =IF(B61=7777,"Не знаю",B61) -> 1953
A62: =IF(OR(B62="", B62="Formula"),"","time_yyyy") -> time_yyyy | B62: =IF(COUNT(B$56:B61)>(survey!G$9-survey!G$8+2),IF(COUNTIF(B$56:B61,7777)=0,7777,"Formula"),B61+1) -> 1954 | C62: =IF(B62=7777,"Don't know",B62) -> 1954 | D62: =IF(B62=7777,"لا أعرف",B62) -> 1954 | E62: =IF(B62=7777,"Ne sait pas",B62) -> 1954 | F62: =IF(B62=7777,"No sabe",B62) -> 1954 | G62: =IF(B62=7777,"Не знаю",B62) -> 1954
A63: =IF(OR(B63="", B63="Formula"),"","time_yyyy") -> time_yyyy | B63: =IF(COUNT(B$56:B62)>(survey!G$9-survey!G$8+2),IF(COUNTIF(B$56:B62,7777)=0,7777,"Formula"),B62+1) -> 1955 | C63: =IF(B63=7777,"Don't know",B63) -> 1955 | D63: =IF(B63=7777,"لا أعرف",B63) -> 1955 | E63: =IF(B63=7777,"Ne sait pas",B63) -> 1955 | F63: =IF(B63=7777,"No sabe",B63) -> 1955 | G63: =IF(B63=7777,"Не знаю",B63) -> 1955
A64: =IF(OR(B64="", B64="Formula"),"","time_yyyy") -> time_yyyy | B64: =IF(COUNT(B$56:B63)>(survey!G$9-survey!G$8+2),IF(COUNTIF(B$56:B63,7777)=0,7777,"Formula"),B63+1) -> 1956 | C64: =IF(B64=7777,"Don't know",B64) -> 1956 | D64: =IF(B64=7777,"لا أعرف",B64) -> 1956 | E64: =IF(B64=7777,"Ne sait pas",B64) -> 1956 | F64: =IF(B64=7777,"No sabe",B64) -> 1956 | G64: =IF(B64=7777,"Не знаю",B64) -> 1956
A65: =IF(OR(B65="", B65="Formula"),"","time_yyyy") -> time_yyyy | B65: =IF(COUNT(B$56:B64)>(survey!G$9-survey!G$8+2),IF(COUNTIF(B$56:B64,7777)=0,7777,"Formula"),B64+1) -> 1957 | C65: =IF(B65=7777,"Don't know",B65) -> 1957 | D65: =IF(B65=7777,"لا أعرف",B65) -> 1957 | E65: =IF(B65=7777,"Ne sait pas",B65) -> 1957 | F65: =IF(B65=7777,"No sabe",B65) -> 1957 | G65: =IF(B65=7777,"Не знаю",B65) -> 1957
A66: =IF(OR(B66="", B66="Formula"),"","time_yyyy") -> time_yyyy | B66: =IF(COUNT(B$56:B65)>(survey!G$9-survey!G$8+2),IF(COUNTIF(B$56:B65,7777)=0,7777,"Formula"),B65+1) -> 1958 | C66: =IF(B66=7777,"Don't know",B66) -> 1958 | D66: =IF(B66=7777,"لا أعرف",B66) -> 1958 | E66: =IF(B66=7777,"Ne sait pas",B66) -> 1958 | F66: =IF(B66=7777,"No sabe",B66) -> 1958 | G66: =IF(B66=7777,"Не знаю",B66) -> 1958
A67: =IF(OR(B67="", B67="Formula"),"","time_yyyy") -> time_yyyy | B67: =IF(COUNT(B$56:B66)>(survey!G$9-survey!G$8+2),IF(COUNTIF(B$56:B66,7777)=0,7777,"Formula"),B66+1) -> 1959 | C67: =IF(B67=7777,"Don't know",B67) -> 1959 | D67: =IF(B67=7777,"لا أعرف",B67) -> 1959 | E67: =IF(B67=7777,"Ne sait pas",B67) -> 1959 | F67: =IF(B67=7777,"No sabe",B67) -> 1959 | G67: =IF(B67=7777,"Не знаю",B67) -> 1959
A68: =IF(OR(B68="", B68="Formula"),"","time_yyyy") -> time_yyyy | B68: =IF(COUNT(B$56:B67)>(survey!G$9-survey!G$8+2),IF(COUNTIF(B$56:B67,7777)=0,7777,"Formula"),B67+1) -> 1960 | C68: =IF(B68=7777,"Don't know",B68) -> 1960 | D68: =IF(B68=7777,"لا أعرف",B68) -> 1960 | E68: =IF(B68=7777,"Ne sait pas",B68) -> 1960 | F68: =IF(B68=7777,"No sabe",B68) -> 1960 | G68: =IF(B68=7777,"Не знаю",B68) -> 1960
... A132: =IF(OR(B132="", B132="Formula"),"","time_yyyy") | B132: =IF(COUNT(B$56:B131)>(survey!G$9-survey!G$8+2),IF(COUNTIF(B$56:B131,7777)=0,7777,"Formula"),B131+1) -> Formula | C132: =IF(B132=7777,"Don't know",B132) -> Formula | D132: =IF(B132=7777,"لا أعرف",B132) -> Formula | E132: =IF(B132=7777,"Ne sait pas",B132) -> Formula | F132: =IF(B132=7777,"No sabe",B132) -> Formula | G132: =IF(B132=7777,"Не знаю",B132) -> Formula
A134: provincias | B134: AZUAY | F134: AZUAY
A135: provincias | B135: BOLIVAR | F135: BOLIVAR
A136: provincias | B136: CAÑAR | F136: CAÑAR
A137: provincias | B137: CARCHI | F137: CARCHI
A138: provincias | B138: CHIMBORAZO | F138: CHIMBORAZO
A139: provincias | B139: COTOPAXI | F139: COTOPAXI
A140: provincias | B140: EL_ORO | F140: EL ORO
A141: provincias | B141: ESMERALDAS | F141: ESMERALDAS
A142: provincias | B142: GUAYAS | F142: GUAYAS
A143: provincias | B143: IMBABURA | F143: IMBABURA
A144: provincias | B144: LOJA | F144: LOJA
A145: provincias | B145: LOS_RIOS | F145: LOS RIOS
... A158: provincias | B158: Otro | F158: Otro
A160: cantones | B160: ALAUSI | F160: ALAUSI | H160: CHIMBORAZO
A161: cantones | B161: ALFREDO_BAQUERIZO_MORENO_(JUJAN) | F161: ALFREDO BAQUERIZO MORENO (JUJAN) | H161: GUAYAS
A162: cantones | B162: AMBATO | F162: AMBATO | H162: TUNGURAHUA
A163: cantones | B163: ANTONIO_ANTE | F163: ANTONIO ANTE | H163: IMBABURA
A164: cantones | B164: ARCHIDONA | F164: ARCHIDONA | H164: NAPO
A165: cantones | B165: ATACAMES | F165: ATACAMES | H165: ESMERALDAS
A166: cantones | B166: AZOGUES | F166: AZOGUES | H166: CAÑAR
A167: cantones | B167: BABAHOYO | F167: BABAHOYO | H167: LOS_RIOS
A168: cantones | B168: BALZAR | F168: BALZAR | H168: GUAYAS
A169: cantones | B169: BIBLIAN | F169: BIBLIAN | H169: CAÑAR
A170: cantones | B170: BOLIVAR | F170: BOLIVAR | H170: CARCHI
A171: cantones | B171: BOLIVAR | F171: BOLIVAR | H171: MANABI
... A280: cantones | B280: Otro | F280: Otro | H280: Otro
A282: parroquias | B282: ABDON_CALDERON_(LA_UNION) | F282: ABDON CALDERON (LA UNION) | H282: AZUAY | I282: SANTA_ISABEL
A283: parroquias | B283: ABDON_CALDERON_(SAN_FRANCISCO) | F283: ABDON CALDERON (SAN FRANCISCO) | H283: MANABI | I283: PORTOVIEJO
A284: parroquias | B284: ACHUPALLAS | F284: ACHUPALLAS | H284: CHIMBORAZO | I284: ALAUSI
A285: parroquias | B285: ALAMOR | F285: ALAMOR | H285: LOJA | I285: PUYANGO
A286: parroquias | B286: ALANGASI | F286: ALANGASI | H286: PICHINCHA | I286: QUITO
A287: parroquias | B287: ALFREDO_BAQUERIZO_MORENO_(JUJAN) | F287: ALFREDO BAQUERIZO MORENO (JUJAN) | H287: GUAYAS | I287: ALFREDO_BAQUERIZO_MORENO_(JUJAN)
A288: parroquias | B288: ALOASI | F288: ALOASI | H288: PICHINCHA | I288: MEJIA
A289: parroquias | B289: AMAGUAÑA | F289: AMAGUAÑA | H289: PICHINCHA | I289: QUITO
A290: parroquias | B290: AMBATO | F290: AMBATO | H290: TUNGURAHUA | I290: AMBATO
A291: parroquias | B291: ANTONIO_SOTOMAYOR_(CAB._EN_PLAYAS_DE_VINCES) | F291: ANTONIO SOTOMAYOR (CAB. EN PLAYAS DE VINCES) | H291: LOS_RIOS | I291: VINCES
A292: parroquias | B292: ARCHIDONA | F292: ARCHIDONA | H292: NAPO | I292: ARCHIDONA
A293: parroquias | B293: ATACAMES | F293: ATACAMES | H293: ESMERALDAS | I293: ATACAMES
... A472: parroquias | B472: Otro | F472: Otro | H472: Otro | I472: Otro

Sheet settings
A1: title | B1: form_id | C1: instance_name | D1: default_language | E1: version
A2: Ecuador2018 (STEPS 3) | B2: ecusteps_3 | C2: pulldata('STEPS','form_name','hhid_key','1') | D2: Spanish | E2: 3.2
