Workbook

Sheet survey
A1: type | B1: name | C1: label | D1: constraint | E1: constraint_message | F1: hint | G1: required | H1: required_message | I1: relevant | J1: calculation | K1: appearance
A3: today | B3: I4
A4: start | B4: I7
A5: end | B5: end
A6: deviceid | B6: deviceid
A7: subscriberid | B7: subscriberid
A8: calculate | B8: minage | J8: 18
A9: calculate | B9: maxage | J9: 69
A11: begin group | B11: pidgrp | K11: field-list
A12: calculate | B12: pid | J12: pulldata('STEPS','member_id','hhid_key','1')
A13: note | B13: pid_note | C13: PID: ${pid} | F13: الرقم التعريفى للمجيب
A14: end group
A16: begin group | B16: name | C16: الاسم
A17: text | B17: I8 | C17: I8. إسم العائلة | J17: pulldata('STEPS','family_surname','hhid_key','1')
A18: text | B18: I9 | C18: I9. اسم الشخص المشترك | J18: pulldata('STEPS','first_name','hhid_key','1')
A19: end group
A21: begin group | B21: demographics | C21: معلومات سكانية
A22: select_one m_f | B22: C1 | C22: C1. الجنس | F22: راقب فقط، لا تسأل. | G22: yes | J22: pulldata('STEPS','gender','hhid_key','1')
A23: begin group | B23: C2grp | C23: تاريخ الميلاد | K23: field-list
A24: note | B24: dobnote | C24: C2: ما هو تاريخ ميلادك؟ | F24: اختار "لا أعرف" في جميع المجالات إذا كان التاريخ الكامل للميلاد غير معروف.
A25: select_one time_dd | B25: C2a | C25: اليوم | G25: yes | K25: minimal
A26: select_one time_mm | B26: C2b | C26: الشهر | D26: (.>=1 and .<=12 and ${C2a}!=77) or (.=77 and ${C2a}=77) | E26: لايمكنك إدخال تاريخ جزئي للميلاد. حدد "لا أعرف" في جميع المجالات إذا كان التاريخ الكامل للميلاد غير معروف. | G26: yes | K26: minimal
A27: select_one time_yyyy | B27: C2c | C27: االسنه | D27: (.>=1945 and .<=2015 and ${C2a}!=77 and ${C2b}!=77) or (.=7777 and ${C2a}=77 and ${C2b}=77) | E27: لايمكنك إدخال تاريخ جزئي للميلاد. حدد "لا أعرف" في جميع المجالات إذا كان التاريخ الكامل للميلاد غير معروف. | G27: yes | K27: minimal
A28: end group | B28: </C2grp>
A29: integer | B29: C3 | C29: C3. كم عمرك؟ | D29: .>=${minage} and .<=${maxage} | E29: يجب أن يكون العمر ضمن الفئة العمرية للمسح. | G29: yes | I29: ${C2a}='77' | J29: int(pulldata('STEPS','age','hhid_key','1'))
A30: end group
A32: begin group | B32: step3_biochem_measurements | C32: الخطوة الثالثة: المقاييس الحيوية
A33: begin group | B33: blood_glucose | C33: السكر في الدم
A34: select_one y_n | B34: B1 | C34: B1. هل أكلت أو شربت شيئاً غير الماء خلال الاشني عشر ساعة الماضية؟ | G34: yes
A35: integer | B35: B2 | C35: B2. رمز فني المختبر | D35: .>0 | E35: يجب أن يكون الرقم رقم موجب | G35: yes
A36: integer | B36: B3 | C36: B3. رمز الجهاز | D36: .>0 | E36: يجب أن يكون الرقم رقم موجب | G36: yes
A37: time | B37: B4 | C37: B4. وقت أخذ عينة الدم (بتوقيت 24 ساعة) | G37: yes
A38: decimal | B38: B5 | C38: B5. سكر صايم في الدم (مليمول / لتر) | D38: (.>=1.1 and .<=33.3) or .=77 | E38: يجب أن يكون السكر في الدم على الأقل 1.1 (مليمول / لتر) و لا يزيد عن 33.3 (مليمول / لتر). | F38: ادخل '77' إذا رفض المشارك أو إذا كان هناك مشكله فى القرآة | G38: yes | I38: ${B1} = '2'
A39: select_one y_n | B39: B6 | C39: B6. هل أخذت اليوم حقن أنسولين أو أي علاج للسكر وصفه لك الطبيب أو مهني الصحة لخفض معدل السكر بالدم ؟ | G39: yes
A40: end group
A41: begin group | B41: blood_lipids | C41: الدهنيات في الدم
A42: decimal | B42: B8 | C42: B8. الكوليسترول الكلي (مليمول / لتر) | D42: (.>=2.59 and .<=10.36) or .=77 | E42: يجب أن يكون الكوليسترول الكلي على الأقل 2.59 (مليمول / لتر) و لا يزيد عن 10.36 (مليمول / لتر). | F42: ادخل '77' إذا رفض المشارك أو إذا كان هناك مشكله فى القرآة | G42: yes
A43: select_one y_n | B43: B9 | C43: B9. في خلال الأسبوعين السابقين هل أخذت أي علاج لخفض الكوليسترول بالدم وصف لك من قبل الطبيب أو كادر صحي ؟ | G43: yes
A44: end group
A45: begin group | B45: hdl_cholesterol | C45: الدهون الثلاثية والدهون ذات الكثافة العالية
...

Sheet choices
A1: list name | B1: name | C1: label
A2: m_f | B2: 1 | C2: ذكر
A3: m_f | B3: 2 | C3: انثي
A5: y_n | B5: 1 | C5: نعم
A6: y_n | B6: 2 | C6: لا
A8: time_dd | B8: 01 | C8: 01
A9: time_dd | B9: 02 | C9: 02
A10: time_dd | B10: 03 | C10: 03
A11: time_dd | B11: 04 | C11: 04
A12: time_dd | B12: 05 | C12: 05
A13: time_dd | B13: 06 | C13: 06
A14: time_dd | B14: 07 | C14: 07
A15: time_dd | B15: 08 | C15: 08
A16: time_dd | B16: 09 | C16: 09
A17: time_dd | B17: 10 | C17: 10
A18: time_dd | B18: 11 | C18: 11
A19: time_dd | B19: 12 | C19: 12
... A53: time_mm | B53: 77 | C53: لا أعرف
A55: =IF(OR(B55="", B55="Formula"),"","time_yyyy") -> time_yyyy | B55: =YEAR(TODAY())-survey!J9-1 -> 1949 | C55: =IF(B55=7777,"لا أعرف",B55) -> 1949
A56: =IF(OR(B56="", B56="Formula"),"","time_yyyy") -> time_yyyy | B56: =IF(COUNT(B$55:B55)>(survey!J$9-survey!J$8+2),IF(COUNTIF(B$55:B55,7777)=0,7777,"Formula"),B55+1) -> 1950 | C56: =IF(B56=7777,"لا أعرف",B56) -> 1950
A57: =IF(OR(B57="", B57="Formula"),"","time_yyyy") -> time_yyyy | B57: =IF(COUNT(B$55:B56)>(survey!J$9-survey!J$8+2),IF(COUNTIF(B$55:B56,7777)=0,7777,"Formula"),B56+1) -> 1951 | C57: =IF(B57=7777,"لا أعرف",B57) -> 1951
A58: =IF(OR(B58="", B58="Formula"),"","time_yyyy") -> time_yyyy | B58: =IF(COUNT(B$55:B57)>(survey!J$9-survey!J$8+2),IF(COUNTIF(B$55:B57,7777)=0,7777,"Formula"),B57+1) -> 1952 | C58: =IF(B58=7777,"لا أعرف",B58) -> 1952
A59: =IF(OR(B59="", B59="Formula"),"","time_yyyy") -> time_yyyy | B59: =IF(COUNT(B$55:B58)>(survey!J$9-survey!J$8+2),IF(COUNTIF(B$55:B58,7777)=0,7777,"Formula"),B58+1) -> 1953 | C59: =IF(B59=7777,"لا أعرف",B59) -> 1953
A60: =IF(OR(B60="", B60="Formula"),"","time_yyyy") -> time_yyyy | B60: =IF(COUNT(B$55:B59)>(survey!J$9-survey!J$8+2),IF(COUNTIF(B$55:B59,7777)=0,7777,"Formula"),B59+1) -> 1954 | C60: =IF(B60=7777,"لا أعرف",B60) -> 1954
A61: =IF(OR(B61="", B61="Formula"),"","time_yyyy") -> time_yyyy | B61: =IF(COUNT(B$55:B60)>(survey!J$9-survey!J$8+2),IF(COUNTIF(B$55:B60,7777)=0,7777,"Formula"),B60+1) -> 1955 | C61: =IF(B61=7777,"لا أعرف",B61) -> 1955
A62: =IF(OR(B62="", B62="Formula"),"","time_yyyy") -> time_yyyy | B62: =IF(COUNT(B$55:B61)>(survey!J$9-survey!J$8+2),IF(COUNTIF(B$55:B61,7777)=0,7777,"Formula"),B61+1) -> 1956 | C62: =IF(B62=7777,"لا أعرف",B62) -> 1956
A63: =IF(OR(B63="", B63="Formula"),"","time_yyyy") -> time_yyyy | B63: =IF(COUNT(B$55:B62)>(survey!J$9-survey!J$8+2),IF(COUNTIF(B$55:B62,7777)=0,7777,"Formula"),B62+1) -> 1957 | C63: =IF(B63=7777,"لا أعرف",B63) -> 1957
A64: =IF(OR(B64="", B64="Formula"),"","time_yyyy") -> time_yyyy | B64: =IF(COUNT(B$55:B63)>(survey!J$9-survey!J$8+2),IF(COUNTIF(B$55:B63,7777)=0,7777,"Formula"),B63+1) -> 1958 | C64: =IF(B64=7777,"لا أعرف",B64) -> 1958
A65: =IF(OR(B65="", B65="Formula"),"","time_yyyy") -> time_yyyy | B65: =IF(COUNT(B$55:B64)>(survey!J$9-survey!J$8+2),IF(COUNTIF(B$55:B64,7777)=0,7777,"Formula"),B64+1) -> 1959 | C65: =IF(B65=7777,"لا أعرف",B65) -> 1959
A66: =IF(OR(B66="", B66="Formula"),"","time_yyyy") -> time_yyyy | B66: =IF(COUNT(B$55:B65)>(survey!J$9-survey!J$8+2),IF(COUNTIF(B$55:B65,7777)=0,7777,"Formula"),B65+1) -> 1960 | C66: =IF(B66=7777,"لا أعرف",B66) -> 1960
A67: =IF(OR(B67="", B67="Formula"),"","time_yyyy") -> time_yyyy | B67: =IF(COUNT(B$55:B66)>(survey!J$9-survey!J$8+2),IF(COUNTIF(B$55:B66,7777)=0,7777,"Formula"),B66+1) -> 1961 | C67: =IF(B67=7777,"لا أعرف",B67) -> 1961
... A131: =IF(OR(B131="", B131="Formula"),"","time_yyyy") | B131: =IF(COUNT(B$55:B130)>(survey!J$9-survey!J$8+2),IF(COUNTIF(B$55:B130,7777)=0,7777,"Formula"),B130+1) -> Formula | C131: =IF(B131=7777,"لا أعرف",B131) -> Formula

Sheet settings
A1: title | B1: form_id | C1: instance_name
A2: STEPS Sudan (Steps 3) | B2: s3 | C2: pulldata('STEPS','form_name','hhid_key','1')
